BEGIN:VCALENDAR
VERSION:2.0
PRODID:-//jEvents 2.0 for Joomla//EN
CALSCALE:GREGORIAN
METHOD:PUBLISH
BEGIN:VTIMEZONE
TZID:Europe/Berlin
BEGIN:STANDARD
DTSTART:20221030T020000
RDATE:20230326T030000
TZOFFSETFROM:+0200
TZOFFSETTO:+0100
TZNAME:Europe/Berlin CET
END:STANDARD
BEGIN:STANDARD
DTSTART:20231029T020000
RDATE:20240331T030000
TZOFFSETFROM:+0200
TZOFFSETTO:+0100
TZNAME:Europe/Berlin CET
END:STANDARD
BEGIN:STANDARD
DTSTART:20241027T020000
RDATE:20250330T030000
TZOFFSETFROM:+0200
TZOFFSETTO:+0100
TZNAME:Europe/Berlin CET
END:STANDARD
BEGIN:STANDARD
DTSTART:20251026T020000
RDATE:20260329T030000
TZOFFSETFROM:+0200
TZOFFSETTO:+0100
TZNAME:Europe/Berlin CET
END:STANDARD
BEGIN:STANDARD
DTSTART:20261025T020000
RDATE:20270328T030000
TZOFFSETFROM:+0200
TZOFFSETTO:+0100
TZNAME:Europe/Berlin CET
END:STANDARD
BEGIN:DAYLIGHT
DTSTART:20220401T180000
RDATE:20221030T020000
TZOFFSETFROM:+0100
TZOFFSETTO:+0200
TZNAME:Europe/Berlin CEST
END:DAYLIGHT
BEGIN:DAYLIGHT
DTSTART:20230326T030000
RDATE:20231029T020000
TZOFFSETFROM:+0100
TZOFFSETTO:+0200
TZNAME:Europe/Berlin CEST
END:DAYLIGHT
BEGIN:DAYLIGHT
DTSTART:20240331T030000
RDATE:20241027T020000
TZOFFSETFROM:+0100
TZOFFSETTO:+0200
TZNAME:Europe/Berlin CEST
END:DAYLIGHT
BEGIN:DAYLIGHT
DTSTART:20250330T030000
RDATE:20251026T020000
TZOFFSETFROM:+0100
TZOFFSETTO:+0200
TZNAME:Europe/Berlin CEST
END:DAYLIGHT
BEGIN:DAYLIGHT
DTSTART:20260329T030000
RDATE:20261025T020000
TZOFFSETFROM:+0100
TZOFFSETTO:+0200
TZNAME:Europe/Berlin CEST
END:DAYLIGHT
END:VTIMEZONE
BEGIN:VEVENT
UID:4cc13c842d889a4fff27dcacbbf4edbe
CATEGORIES:Chorkonzert zur Passion
CREATED:20221220T182949
SUMMARY:CHORKONZERT zu PALMARUM "STABAT MATER" || Kurt-Thomas-Kammerchor || DREIKÖNIGSKIRCHE Frankfurt am Main
LOCATION:: Dreikönigskirche Frankfurt am Main (Sachsenhäuser Ufer | Nähe Eiserner St
 eg)
URL;VALUE=URI:https://www.andreas-koehs.de/de/konzertprogramm-de/konzertkalender/Eventdet
 ail/181/-/chorkonzert-zu-palmarum-stabat-mater-kurt-thomas-kammerchor-dreik
 oenigskirche-frankfurt-am-main?tmpl=component
DESCRIPTION:Sonntag, 02.04.2023, 18:00 Uhr,\n(Palmsonntag)\nDreikönigskirche Frankfurt 
 am Main (https://www.kirchenmusik-dreikoenig.de)\nCHORKONZERT zu Palmarum\n
 "STABAT MATER" \nA-cappella-Vokalwerke von \nGiovanni Pierluigi da Palestri
 na (1525-1594)\nWilliam Byrd (1543-1623),\nJohann Sebastian Bach (1685-1750
 ), \nVytautas Miškinis (*1954), \nĒriks Ešenvalds (*1977) und\nKnut Nystedt
  (1915-2014):\nMISSA brevis, op. 102\nKURT-THOMAS-KAMMERCHOR\nwww.kurt-thom
 as-kammerchor.de (https://www.kurt-thomas-kammerchor.de)\nAndreas Köhs | Le
 itung\nwww.andreas-koehs.de (https://www.andreas-koehs.de/)\nWilliam Turner
  Walton (1902-1983):\nPassacaglia für Violoncello solo\n\nPetra Köhs | Viol
 oncello\nTickets: 20 EUR, ermäßigt 15 EUR\n(Nur Abendkasse | freie Platzwah
 l)\n \n \n Dieser Event wurde importiert von: https://www.andreas-koehs.de/
 de/konzertprogramm-de/konzertkalender/Eventdetail/181/-/chorkonzert-zu-palm
 arum-stabat-mater-kurt-thomas-kammerchor-dreikoenigskirche-frankfurt-am-mai
 n?tmpl=component
X-ALT-DESC;FMTTYPE=text/html:<p style="text-align: left;"><strong>Sonntag, 02.04.2023, 18:00 Uhr,<br /><
 /strong>(Palmsonntag)<strong><br /><a title="Dreikönigskirche Frankfurt am 
 Main (Sachsenhäuser Mainufer, Nähe Eiserner Steg)" href="https://www.kirche
 nmusik-dreikoenig.de" target="_blank" rel="alternate noopener noreferrer">D
 reikönigskirche Frankfurt am Main</a></strong></p><h4 style="text-align: le
 ft;"><strong>CHORKONZERT zu Palmarum<br />"STABAT MATER" <br /></strong></h
 4><p style="text-align: left;"><strong>A-cappella-Vokalwerke von </strong><
 br /><strong>Giovanni Pierluigi da Palestrina</strong> (1525-1594)<br /><st
 rong>William Byrd</strong> (1543-1623),<br /><strong>Johann Sebastian Bach<
 /strong> (1685-1750), <br /><strong>Vytautas Miškinis</strong> (*1954), <br
  /><strong>Ēriks Ešenvalds</strong> (*1977) und<br /><strong>Knut Nystedt</
 strong> (1915-2014):<br /><strong>MISSA brevis, op. 102</strong></p><hr /><
 p style="text-align: left;"><strong>KURT-THOMAS-KAMMERCHOR</strong><br /><a
  title="www.kurt-thomas-kammerchor.de" href="https://www.kurt-thomas-kammer
 chor.de" target="_blank" rel="noopener noreferrer">www.kurt-thomas-kammerch
 or.de</a></p><p style="text-align: left;"><strong>Andreas Köhs</strong> | L
 eitung<br /><a title="www.andreas-koehs.de" href="https://www.andreas-koehs
 .de/" target="_blank" rel="noopener noreferrer">www.andreas-koehs.de</a></p
 ><hr /><p style="text-align: left;"><strong>William Turner Walton</strong> 
 (1902-1983):<br /><strong>Passacaglia für Violoncello solo<br /></strong></
 p><p style="text-align: left;"><strong>Petra Köhs</strong> | Violoncello</p
 ><hr /><p style="text-align: left;">Tickets: 20 EUR, ermäßigt 15 EUR<br />(
 Nur Abendkasse | freie Platzwahl)</p><p> </p><hr /><p> </p> <a href="https:
 //www.andreas-koehs.de/de/konzertprogramm-de/konzertkalender/Eventdetail/18
 1/-/chorkonzert-zu-palmarum-stabat-mater-kurt-thomas-kammerchor-dreikoenigs
 kirche-frankfurt-am-main?tmpl=component">Dieser Event wurde importiert von:
  https://www.andreas-koehs.de/de/konzertprogramm-de/konzertkalender/Eventde
 tail/181/-/chorkonzert-zu-palmarum-stabat-mater-kurt-thomas-kammerchor-drei
 koenigskirche-frankfurt-am-main?tmpl=component</a>DTSTAMP:20260421T001014
DTSTART;TZID=Europe/Berlin:20230402T180000
DTEND;TZID=Europe/Berlin:20230402T193000
SEQUENCE:0
TRANSP:OPAQUE
END:VEVENT
END:VCALENDAR