BEGIN:VCALENDAR
VERSION:2.0
PRODID:-//jEvents 2.0 for Joomla//EN
CALSCALE:GREGORIAN
METHOD:PUBLISH
BEGIN:VTIMEZONE
TZID:Europe/Berlin
BEGIN:STANDARD
DTSTART:20231029T020000
RDATE:20240331T030000
TZOFFSETFROM:+0200
TZOFFSETTO:+0100
TZNAME:Europe/Berlin CET
END:STANDARD
BEGIN:STANDARD
DTSTART:20241027T020000
RDATE:20250330T030000
TZOFFSETFROM:+0200
TZOFFSETTO:+0100
TZNAME:Europe/Berlin CET
END:STANDARD
BEGIN:STANDARD
DTSTART:20251026T020000
RDATE:20260329T030000
TZOFFSETFROM:+0200
TZOFFSETTO:+0100
TZNAME:Europe/Berlin CET
END:STANDARD
BEGIN:STANDARD
DTSTART:20261025T020000
RDATE:20270328T030000
TZOFFSETFROM:+0200
TZOFFSETTO:+0100
TZNAME:Europe/Berlin CET
END:STANDARD
BEGIN:DAYLIGHT
DTSTART:20230428T160000
RDATE:20231029T020000
TZOFFSETFROM:+0100
TZOFFSETTO:+0200
TZNAME:Europe/Berlin CEST
END:DAYLIGHT
BEGIN:DAYLIGHT
DTSTART:20240331T030000
RDATE:20241027T020000
TZOFFSETFROM:+0100
TZOFFSETTO:+0200
TZNAME:Europe/Berlin CEST
END:DAYLIGHT
BEGIN:DAYLIGHT
DTSTART:20250330T030000
RDATE:20251026T020000
TZOFFSETFROM:+0100
TZOFFSETTO:+0200
TZNAME:Europe/Berlin CEST
END:DAYLIGHT
BEGIN:DAYLIGHT
DTSTART:20260329T030000
RDATE:20261025T020000
TZOFFSETFROM:+0100
TZOFFSETTO:+0200
TZNAME:Europe/Berlin CEST
END:DAYLIGHT
END:VTIMEZONE
BEGIN:VEVENT
UID:3214790f6ce4563116c6f8e419869723
CATEGORIES:Instrumentalkonzert
CREATED:20240106T015842
SUMMARY:IM DIALOG: VIOLONCELLO UND ORGEL || Petra Köhs, Violoncello, und Andreas Köhs, Orgel || SANKT MARTIN DIETZENBACH
LOCATION:: Sankt Martin Dietzenbach (Offenbacher Straße 5\, 63128 Dietzenbach)
URL;VALUE=URI:https://www.andreas-koehs.de/de/konzertprogramm-de/konzertkalender/Eventdet
 ail/262/-/im-dialog-violoncello-und-orgel-petra-koehs-violoncello-und-andre
 as-koehs-orgel-sankt-martin-dietzenbach?tmpl=component
DESCRIPTION:Sonntag, 28.04.2024, 16:00 Uhr\nKathol. Kirche Sankt Martin Dietzenbach\n (
 https://bistummainz.de/pfarrei/dietzenbach/)(Offenbacher Straße 5, 63128 Di
 etzenbach)\nIm Dialog: \nVioloncello und Orgel\nDuo- und Solowerke von \nB.
  Marcello, J. S. Bach, I. Moscheles, M. Bruch u.a.\nPetra Köhs | Violoncell
 o\nAndreas Köhs | Orgel\n \n Dieser Event wurde importiert von: https://www
 .andreas-koehs.de/de/konzertprogramm-de/konzertkalender/Eventdetail/262/-/i
 m-dialog-violoncello-und-orgel-petra-koehs-violoncello-und-andreas-koehs-or
 gel-sankt-martin-dietzenbach?tmpl=component (https://www.andreas-koehs.de/d
 e/konzertprogramm-de/konzertkalender/Eventdetail/262/-/im-dialog-violoncell
 o-und-orgel-petra-koehs-violoncello-und-andreas-koehs-orgel-sankt-martin-di
 etzenbach?tmpl=component)
X-ALT-DESC;FMTTYPE=text/html:<p style="text-align: left;"><strong>Sonntag, 28.04.2024, 16:00 Uhr</strong
 ><br /><strong><a href="https://bistummainz.de/pfarrei/dietzenbach/" target
 ="_blank" rel="noopener" title="Kathol. Kirche Sankt Martin Dietzenbach (Of
 fenbacher Straße 5, 63128 Dietzenbach)">Kathol. Kirche Sankt Martin Dietzen
 bach<br /></a></strong>(Offenbacher Straße 5, 63128 Dietzenbach)</p><h4 sty
 le="text-align: left;"><strong>Im Dialog: <br />Violoncello und Orgel<br />
 </strong></h4><p style="text-align: left;">Duo- und Solowerke von <br />B. 
 Marcello, J. S. Bach, I. Moscheles, M. Bruch u.a.<br />Petra Köhs | Violonc
 ello<br />Andreas Köhs | Orgel</p><p style="text-align: left;">&nbsp;</p><h
 r /> <a href="https://www.andreas-koehs.de/de/konzertprogramm-de/konzertkal
 ender/Eventdetail/262/-/im-dialog-violoncello-und-orgel-petra-koehs-violonc
 ello-und-andreas-koehs-orgel-sankt-martin-dietzenbach?tmpl=component">Diese
 r Event wurde importiert von: https://www.andreas-koehs.de/de/konzertprogra
 mm-de/konzertkalender/Eventdetail/262/-/im-dialog-violoncello-und-orgel-pet
 ra-koehs-violoncello-und-andreas-koehs-orgel-sankt-martin-dietzenbach?tmpl=
 component</a>DTSTAMP:20260421T190929
DTSTART;TZID=Europe/Berlin:20240428T160000
DTEND;TZID=Europe/Berlin:20240428T170000
SEQUENCE:0
TRANSP:OPAQUE
END:VEVENT
END:VCALENDAR