BEGIN:VCALENDAR
VERSION:2.0
PRODID:-//jEvents 2.0 for Joomla//EN
CALSCALE:GREGORIAN
METHOD:PUBLISH
BEGIN:VTIMEZONE
TZID:Europe/Berlin
BEGIN:STANDARD
DTSTART:20231029T020000
RDATE:20240331T030000
TZOFFSETFROM:+0200
TZOFFSETTO:+0100
TZNAME:Europe/Berlin CET
END:STANDARD
BEGIN:STANDARD
DTSTART:20241027T020000
RDATE:20250330T030000
TZOFFSETFROM:+0200
TZOFFSETTO:+0100
TZNAME:Europe/Berlin CET
END:STANDARD
BEGIN:STANDARD
DTSTART:20251026T020000
RDATE:20260329T030000
TZOFFSETFROM:+0200
TZOFFSETTO:+0100
TZNAME:Europe/Berlin CET
END:STANDARD
BEGIN:STANDARD
DTSTART:20261025T020000
RDATE:20270328T030000
TZOFFSETFROM:+0200
TZOFFSETTO:+0100
TZNAME:Europe/Berlin CET
END:STANDARD
BEGIN:DAYLIGHT
DTSTART:20230526T180000
RDATE:20231029T020000
TZOFFSETFROM:+0100
TZOFFSETTO:+0200
TZNAME:Europe/Berlin CEST
END:DAYLIGHT
BEGIN:DAYLIGHT
DTSTART:20240331T030000
RDATE:20241027T020000
TZOFFSETFROM:+0100
TZOFFSETTO:+0200
TZNAME:Europe/Berlin CEST
END:DAYLIGHT
BEGIN:DAYLIGHT
DTSTART:20250330T030000
RDATE:20251026T020000
TZOFFSETFROM:+0100
TZOFFSETTO:+0200
TZNAME:Europe/Berlin CEST
END:DAYLIGHT
BEGIN:DAYLIGHT
DTSTART:20260329T030000
RDATE:20261025T020000
TZOFFSETFROM:+0100
TZOFFSETTO:+0200
TZNAME:Europe/Berlin CEST
END:DAYLIGHT
END:VTIMEZONE
BEGIN:VEVENT
UID:29ef3c0fa5cc9f18036ce37893459b8e
CATEGORIES:Instrumentalkonzert
CREATED:20240305T152723
SUMMARY:RÜDIGHEIMER KIRCHENKONZERTE "Barocco in due" || Petra Köhs, Violoncello, und Andreas Köhs, Orgel || KIRCHE RÜDIGHEIM-NEUBERG
LOCATION:: Evang. Kirche Rüdigheim-Neuberg (Kirchstraße 8\, 63543 Neuberg)
URL;VALUE=URI:https://www.andreas-koehs.de/de/konzertprogramm-de/konzertkalender/Eventdet
 ail/264/-/ruedigheimer-kirchenkonzerte-barocco-in-due-petra-koehs-violoncel
 lo-und-andreas-koehs-orgel-kirche-ruedigheim-neuberg?tmpl=component
DESCRIPTION:Sonntag, 26.05.2024, 18:00 Uhr\nEvangelische Kirche Rüdigheim-Neuberg\n (ht
 tps://www.kirche-neuberg.de/gemeinde_kirche_rue.php)(Kirchstraße 8, 63543 N
 euberg)\nRüdigheimer Kirchenkonzerte: \n"Barocco in due"\nDuo- und Solowerk
 e der Barockzeit \nB. Marcello, G. B. Platti, A. Vivaldi, \nF. S. Geminiani
  und J. S. Bach\nPetra Köhs | Barockcello\nAndreas Köhs | Truhenorgel\n \n 
 Dieser Event wurde importiert von: https://www.andreas-koehs.de/de/konzertp
 rogramm-de/konzertkalender/Eventdetail/264/-/ruedigheimer-kirchenkonzerte-b
 arocco-in-due-petra-koehs-violoncello-und-andreas-koehs-orgel-kirche-ruedig
 heim-neuberg?tmpl=component (https://www.andreas-koehs.de/de/konzertprogram
 m-de/konzertkalender/Eventdetail/264/-/ruedigheimer-kirchenkonzerte-barocco
 -in-due-petra-koehs-violoncello-und-andreas-koehs-orgel-kirche-ruedigheim-n
 euberg?tmpl=component)
X-ALT-DESC;FMTTYPE=text/html:<p style="text-align: left;"><strong>Sonntag, 26.05.2024, 18:00 Uhr</strong
 ><br /><strong><a href="https://www.kirche-neuberg.de/gemeinde_kirche_rue.p
 hp" target="_blank" rel="noopener" title="Evangelische Kirche Rüdigheim-Neu
 berg (Kirchstraße 8, 63543 Neuberg)">Evangelische Kirche Rüdigheim-Neuberg<
 br /></a></strong>(Kirchstraße 8, 63543 Neuberg)</p><h4 style="text-align: 
 left;"><strong>Rüdigheimer Kirchenkonzerte: <br />"Barocco in due"<br /></s
 trong></h4><p style="text-align: left;">Duo- und Solowerke der Barockzeit <
 br />B. Marcello, G. B. Platti, A. Vivaldi, <br />F. S. Geminiani und J. S.
  Bach<br />Petra Köhs | Barockcello<br />Andreas Köhs | Truhenorgel</p><p s
 tyle="text-align: left;">&nbsp;</p><hr /> <a href="https://www.andreas-koeh
 s.de/de/konzertprogramm-de/konzertkalender/Eventdetail/264/-/ruedigheimer-k
 irchenkonzerte-barocco-in-due-petra-koehs-violoncello-und-andreas-koehs-org
 el-kirche-ruedigheim-neuberg?tmpl=component">Dieser Event wurde importiert 
 von: https://www.andreas-koehs.de/de/konzertprogramm-de/konzertkalender/Eve
 ntdetail/264/-/ruedigheimer-kirchenkonzerte-barocco-in-due-petra-koehs-viol
 oncello-und-andreas-koehs-orgel-kirche-ruedigheim-neuberg?tmpl=component</a
 >DTSTAMP:20260426T034032
DTSTART;TZID=Europe/Berlin:20240526T180000
DTEND;TZID=Europe/Berlin:20240526T190000
SEQUENCE:0
TRANSP:OPAQUE
END:VEVENT
END:VCALENDAR