BEGIN:VCALENDAR
VERSION:2.0
PRODID:-//jEvents 2.0 for Joomla//EN
CALSCALE:GREGORIAN
METHOD:PUBLISH
BEGIN:VTIMEZONE
TZID:Europe/Berlin
BEGIN:STANDARD
DTSTART:20251219T110000
RDATE:20260329T030000
TZOFFSETFROM:+0200
TZOFFSETTO:+0100
TZNAME:Europe/Berlin CET
END:STANDARD
BEGIN:STANDARD
DTSTART:20261025T020000
RDATE:20270328T030000
TZOFFSETFROM:+0200
TZOFFSETTO:+0100
TZNAME:Europe/Berlin CET
END:STANDARD
BEGIN:DAYLIGHT
DTSTART:20260329T030000
RDATE:20261025T020000
TZOFFSETFROM:+0100
TZOFFSETTO:+0200
TZNAME:Europe/Berlin CEST
END:DAYLIGHT
END:VTIMEZONE
BEGIN:VEVENT
UID:f8f34a2f10f4f69a3098c5a7dcfae821
CATEGORIES:Kantatengottesdienst
CREATED:20251106T144949
SUMMARY:MUSIKGOTTESDIENST | MAGNIFICAT || ERLÖSERKIRCHE Frankfurt-Oberrad
LOCATION:: Erlöserkirche Oberrad (Melanchthonplatz\, 60599 Frankfurt-Oberrad)
URL;VALUE=URI:https://www.andreas-koehs.de/de/konzertprogramm-de/konzertkalender/Eventdet
 ail/359/-/musikgottesdienst-magnificat-erloeserkirche-frankfurt-oberrad?tmp
 l=component
DESCRIPTION:<p style="text-align: left;"><strong>Sonntag, 20.12.2026, 11:00 Uhr</strong
 ><br />(4. Advent)<br /><strong><a href="https://erloesergemeinde-oberrad.e
 khn.de/startseite.html" target="_blank" rel="noopener noreferrer" title="Ev
 .-Luth. Erlöserkirche Frankfurt am Main-Oberrad (Melanchthonplatz, 60599 Fr
 ankfurt-Oberrad)">Ev.-Luth. Erlöserkirche Frankfurt am Main-Oberrad</a>&nbs
 p;<br /></strong>(Melanchthonplatz, 60599 Frankfurt)</p><h4 style="text-ali
 gn: left;"><strong>Musikgottesdienst</strong></h4><p style="text-align: lef
 t;"><strong>Isabella Leonarda&nbsp;</strong>(1624-1704)<br /><strong>Magnif
 icat con stromenti</strong>&nbsp;</p><hr /> <a href="https://www.andreas-ko
 ehs.de/de/konzertprogramm-de/konzertkalender/Eventdetail/359/-/musikgottesd
 ienst-magnificat-erloeserkirche-frankfurt-oberrad?tmpl=component">Dieser Ev
 ent wurde importiert von: https://www.andreas-koehs.de/de/konzertprogramm-d
 e/konzertkalender/Eventdetail/359/-/musikgottesdienst-magnificat-erloeserki
 rche-frankfurt-oberrad?tmpl=component</a>DTSTAMP:20260421T073818
DTSTART;TZID=Europe/Berlin:20261220T110000
DTEND;TZID=Europe/Berlin:20261220T120000
SEQUENCE:0
TRANSP:OPAQUE
END:VEVENT
END:VCALENDAR