BEGIN:VCALENDAR
VERSION:2.0
PRODID:-//jEvents 2.0 for Joomla//EN
CALSCALE:GREGORIAN
METHOD:PUBLISH
BEGIN:VTIMEZONE
TZID:Europe/Berlin
BEGIN:STANDARD
DTSTART:20251026T020000
RDATE:20260329T030000
TZOFFSETFROM:+0200
TZOFFSETTO:+0100
TZNAME:Europe/Berlin CET
END:STANDARD
BEGIN:STANDARD
DTSTART:20261025T020000
RDATE:20270328T030000
TZOFFSETFROM:+0200
TZOFFSETTO:+0100
TZNAME:Europe/Berlin CET
END:STANDARD
BEGIN:DAYLIGHT
DTSTART:20250908T180000
RDATE:20251026T020000
TZOFFSETFROM:+0100
TZOFFSETTO:+0200
TZNAME:Europe/Berlin CEST
END:DAYLIGHT
BEGIN:DAYLIGHT
DTSTART:20260329T030000
RDATE:20261025T020000
TZOFFSETFROM:+0100
TZOFFSETTO:+0200
TZNAME:Europe/Berlin CEST
END:DAYLIGHT
END:VTIMEZONE
BEGIN:VEVENT
UID:2cc4821bbf76848fc77423a4e0b0ac3f
CATEGORIES:Orgelkonzert
CREATED:20251110T193402
SUMMARY:ORGELMUSIK AM MITTWOCHABEND || KAISERDOM Fankfurt am Main
LOCATION:: Kaiserdom Frankfurt (Domplatz\, 60311 Frankfurt)
URL;VALUE=URI:https://www.andreas-koehs.de/de/konzertprogramm-de/konzertkalender/Eventdet
 ail/367/-/orgelmusik-am-mittwochabend-kaiserdom-fankfurt-am-main?tmpl=compo
 nent
DESCRIPTION:<p style="text-align: left;"><strong>Mittwoch, 09.09.2026, 18:00 Uhr</stron
 g><br /><strong><a href="https://www.dom-frankfurt.de/aktuelles/veranstaltu
 ngen/musik/musik-am-mittwochabend" target="_blank" rel="noopener noreferrer
 " title="Kaiserdom St. Bartholomäus Frankfurt am Main (Domstraße / Domplatz
 , 60311 Frankfurt am Main)">Kaiserdom St. Bartholomäus Frankfurt am Main</a
 ></strong><br />(Domstraße / Domplatz, 60311 Frankfurt am Main)</p><h4 styl
 e="text-align: left;"><strong>Musik am Mittwochabend&nbsp;</strong></h4><p>
 Max Reger (1873-1916) <br />"Gloria in excelsis" | op. 59,8&nbsp;<br /><str
 ong>Andreas Köhs</strong> | Orgel</p><p style="text-align: left;">In der ne
 uen Reihe „Musik am Mittwochabend“ erklingen einmal im Monat <br />„Schätze
  der europäischen Orgelmusik in 20 Minuten“ im Dom St. Bartholomäus <br />–
  gespielt von Dommusikdirektor Andreas Boltz bzw. Kantor Andreas Köhs, Evan
 gelische Dreikönigskirche, <br />geistlich erläutert von Pfarrerin Anne-Kat
 rin Helms, Evangelische Erlösergemeinde, <br />und Pfarrer Dr. Johannes zu 
 Eltz, Dompfarrei St. Bartholomäus.<br /><i class="fas fa-ticket"></i> Eintr
 itt:&nbsp;&nbsp;frei. Plätze im nördlichen Querhaus.</p><p style="text-alig
 n: left;">&nbsp;</p> <a href="https://www.andreas-koehs.de/de/konzertprogra
 mm-de/konzertkalender/Eventdetail/367/-/orgelmusik-am-mittwochabend-kaiserd
 om-fankfurt-am-main?tmpl=component">Dieser Event wurde importiert von: http
 s://www.andreas-koehs.de/de/konzertprogramm-de/konzertkalender/Eventdetail/
 367/-/orgelmusik-am-mittwochabend-kaiserdom-fankfurt-am-main?tmpl=component
 </a>DTSTAMP:20260421T073628
DTSTART;TZID=Europe/Berlin:20260909T180000
DTEND;TZID=Europe/Berlin:20260909T183000
SEQUENCE:0
TRANSP:OPAQUE
END:VEVENT
END:VCALENDAR