BEGIN:VCALENDAR
VERSION:2.0
PRODID:-//jEvents 2.0 for Joomla//EN
CALSCALE:GREGORIAN
METHOD:PUBLISH
BEGIN:VTIMEZONE
TZID:Europe/Berlin
BEGIN:STANDARD
DTSTART:20251026T020000
RDATE:20260329T030000
TZOFFSETFROM:+0200
TZOFFSETTO:+0100
TZNAME:Europe/Berlin CET
END:STANDARD
BEGIN:STANDARD
DTSTART:20261025T020000
RDATE:20270328T030000
TZOFFSETFROM:+0200
TZOFFSETTO:+0100
TZNAME:Europe/Berlin CET
END:STANDARD
BEGIN:DAYLIGHT
DTSTART:20250425T170000
RDATE:20251026T020000
TZOFFSETFROM:+0100
TZOFFSETTO:+0200
TZNAME:Europe/Berlin CEST
END:DAYLIGHT
BEGIN:DAYLIGHT
DTSTART:20260329T030000
RDATE:20261025T020000
TZOFFSETFROM:+0100
TZOFFSETTO:+0200
TZNAME:Europe/Berlin CEST
END:DAYLIGHT
END:VTIMEZONE
BEGIN:VEVENT
UID:f81e38f8bcf5ec16af9dba0e33fb100e
CATEGORIES:Instrumentalkonzert
CREATED:20251209T134935
SUMMARY:BAROCCO IN DUE || Petra Köhs, Barockcello, und Andreas Köhs, Truhenorgel || SANKT MARTIN DIETZENBACH
LOCATION:: Sankt Martin Dietzenbach (Offenbacher Straße 5\, 63128 Dietzenbach)
URL;VALUE=URI:https://www.andreas-koehs.de/de/konzertprogramm-de/konzertkalender/Eventdet
 ail/376/-/barocco-in-due-petra-koehs-barockcello-und-andreas-koehs-truhenor
 gel-sankt-martin-dietzenbach?tmpl=component
DESCRIPTION:Sonntag, 26.04.2026, 17:00 Uhr\nKatholische Kirche Sankt Martin Dietzenbach
  (https://bistummainz.de/pfarrei/dietzenbach/)\n(Offenbacher Straße 5, 6312
 8 Dietzenbach)\n"Barocco in due"Duo- und Solowerke der Barockzeit \nB. Marc
 ello, G. B. Platti, \nA. Vivaldi und J. S. Bach\nPetra Köhs | Barockcello\n
 Andreas Köhs | Truhenorgel \n Dieser Event wurde importiert von: https://ww
 w.andreas-koehs.de/de/konzertprogramm-de/konzertkalender/Eventdetail/376/-/
 barocco-in-due-petra-koehs-barockcello-und-andreas-koehs-truhenorgel-sankt-
 martin-dietzenbach?tmpl=component (https://www.andreas-koehs.de/de/konzertp
 rogramm-de/konzertkalender/Eventdetail/376/-/barocco-in-due-petra-koehs-bar
 ockcello-und-andreas-koehs-truhenorgel-sankt-martin-dietzenbach?tmpl=compon
 ent)
X-ALT-DESC;FMTTYPE=text/html:<hr /><p style="text-align: left;"><strong>Sonntag, 26.04.2026, 17:00 Uhr</
 strong><br /><strong><a href="https://bistummainz.de/pfarrei/dietzenbach/" 
 target="_blank" rel="alternate noopener noreferrer" title="Katholische Kirc
 he Sankt Martin Dietzenbach (Offenbacher Str. 5, 63128 Dietzenbach)">Kathol
 ische Kirche Sankt Martin Dietzenbach</a></strong><br />(Offenbacher Straße
  5, 63128 Dietzenbach)</p><h4 style="text-align: left;"><strong>"Barocco in
  due"</strong></h4><p style="text-align: left;">Duo- und Solowerke der Baro
 ckzeit <br />B. Marcello, G. B. Platti,&nbsp;<br />A. Vivaldi und J. S. Bac
 h<br />Petra Köhs | Barockcello<br />Andreas Köhs | Truhenorgel&nbsp;</p><h
 r /> <a href="https://www.andreas-koehs.de/de/konzertprogramm-de/konzertkal
 ender/Eventdetail/376/-/barocco-in-due-petra-koehs-barockcello-und-andreas-
 koehs-truhenorgel-sankt-martin-dietzenbach?tmpl=component">Dieser Event wur
 de importiert von: https://www.andreas-koehs.de/de/konzertprogramm-de/konze
 rtkalender/Eventdetail/376/-/barocco-in-due-petra-koehs-barockcello-und-and
 reas-koehs-truhenorgel-sankt-martin-dietzenbach?tmpl=component</a>DTSTAMP:20260426T034750
DTSTART;TZID=Europe/Berlin:20260426T170000
DTEND;TZID=Europe/Berlin:20260426T180000
SEQUENCE:0
TRANSP:OPAQUE
END:VEVENT
END:VCALENDAR