BEGIN:VCALENDAR
VERSION:2.0
PRODID:-//jEvents 2.0 for Joomla//EN
CALSCALE:GREGORIAN
METHOD:PUBLISH
BEGIN:VTIMEZONE
TZID:Europe/Berlin
BEGIN:STANDARD
DTSTART:20200220T170000
RDATE:20200329T030000
TZOFFSETFROM:+0200
TZOFFSETTO:+0100
TZNAME:Europe/Berlin CET
END:STANDARD
BEGIN:STANDARD
DTSTART:20201025T020000
RDATE:20210328T030000
TZOFFSETFROM:+0200
TZOFFSETTO:+0100
TZNAME:Europe/Berlin CET
END:STANDARD
BEGIN:STANDARD
DTSTART:20211031T020000
RDATE:20220327T030000
TZOFFSETFROM:+0200
TZOFFSETTO:+0100
TZNAME:Europe/Berlin CET
END:STANDARD
BEGIN:STANDARD
DTSTART:20221030T020000
RDATE:20230326T030000
TZOFFSETFROM:+0200
TZOFFSETTO:+0100
TZNAME:Europe/Berlin CET
END:STANDARD
BEGIN:STANDARD
DTSTART:20231029T020000
RDATE:20240331T030000
TZOFFSETFROM:+0200
TZOFFSETTO:+0100
TZNAME:Europe/Berlin CET
END:STANDARD
BEGIN:STANDARD
DTSTART:20241027T020000
RDATE:20250330T030000
TZOFFSETFROM:+0200
TZOFFSETTO:+0100
TZNAME:Europe/Berlin CET
END:STANDARD
BEGIN:STANDARD
DTSTART:20251026T020000
RDATE:20260329T030000
TZOFFSETFROM:+0200
TZOFFSETTO:+0100
TZNAME:Europe/Berlin CET
END:STANDARD
BEGIN:STANDARD
DTSTART:20261025T020000
RDATE:20270328T030000
TZOFFSETFROM:+0200
TZOFFSETTO:+0100
TZNAME:Europe/Berlin CET
END:STANDARD
BEGIN:DAYLIGHT
DTSTART:20200329T030000
RDATE:20201025T020000
TZOFFSETFROM:+0100
TZOFFSETTO:+0200
TZNAME:Europe/Berlin CEST
END:DAYLIGHT
BEGIN:DAYLIGHT
DTSTART:20210328T030000
RDATE:20211031T020000
TZOFFSETFROM:+0100
TZOFFSETTO:+0200
TZNAME:Europe/Berlin CEST
END:DAYLIGHT
BEGIN:DAYLIGHT
DTSTART:20220327T030000
RDATE:20221030T020000
TZOFFSETFROM:+0100
TZOFFSETTO:+0200
TZNAME:Europe/Berlin CEST
END:DAYLIGHT
BEGIN:DAYLIGHT
DTSTART:20230326T030000
RDATE:20231029T020000
TZOFFSETFROM:+0100
TZOFFSETTO:+0200
TZNAME:Europe/Berlin CEST
END:DAYLIGHT
BEGIN:DAYLIGHT
DTSTART:20240331T030000
RDATE:20241027T020000
TZOFFSETFROM:+0100
TZOFFSETTO:+0200
TZNAME:Europe/Berlin CEST
END:DAYLIGHT
BEGIN:DAYLIGHT
DTSTART:20250330T030000
RDATE:20251026T020000
TZOFFSETFROM:+0100
TZOFFSETTO:+0200
TZNAME:Europe/Berlin CEST
END:DAYLIGHT
BEGIN:DAYLIGHT
DTSTART:20260329T030000
RDATE:20261025T020000
TZOFFSETFROM:+0100
TZOFFSETTO:+0200
TZNAME:Europe/Berlin CEST
END:DAYLIGHT
END:VTIMEZONE
BEGIN:VEVENT
UID:dca22ef31ff39dd140807d86ee9b1602
CATEGORIES:Musikalische Vesper
CREATED:20201231T203259
SUMMARY:MUSIKALISCHE VESPER | Dreikönigskirche Frankfurt | ANDREAS KÖHS, Orgel
LOCATION:: Dreikönigskirche Frankfurt am Main
URL;VALUE=URI:https://www.andreas-koehs.de/de/konzertprogramm-de/konzertkalender/Eventdet
 ail/86/-/musikalische-vesper-dreikoenigskirche-frankfurt-andreas-koehs-orge
 l?tmpl=component
DESCRIPTION:Samstag, 20.02.2021, 17:00 Uhr,\nDreikönigskirche Frankfurt am Main (http:/
 /www.kirchenmusik-dreikoenig.de/)\nMusikalischer VespergottesdienstAndreas 
 Köhs | Orgel\n \n Dieser Event wurde importiert von: https://www.andreas-ko
 ehs.de/de/konzertprogramm-de/konzertkalender/Eventdetail/86/-/musikalische-
 vesper-dreikoenigskirche-frankfurt-andreas-koehs-orgel?tmpl=component (http
 s://www.andreas-koehs.de/de/konzertprogramm-de/konzertkalender/Eventdetail/
 86/-/musikalische-vesper-dreikoenigskirche-frankfurt-andreas-koehs-orgel?tm
 pl=component)
X-ALT-DESC;FMTTYPE=text/html:<p><strong>Samstag, 20.02.2021, 17:00 Uhr,<br /><a title="Dreikönigskirche 
 Frankfurt am Main (Sachsenhäuser Mainufer, Nähe Eiserner Steg)" href="http:
 //www.kirchenmusik-dreikoenig.de/" target="_blank" rel="alternate noopener 
 noreferrer">Dreikönigskirche Frankfurt am Main</a></strong></p><h4><strong>
 Musikalischer Vespergottesdienst</strong></h4><p><strong>Andreas Köhs </str
 ong>| Orgel</p><hr /><p> </p> <a href="https://www.andreas-koehs.de/de/konz
 ertprogramm-de/konzertkalender/Eventdetail/86/-/musikalische-vesper-dreikoe
 nigskirche-frankfurt-andreas-koehs-orgel?tmpl=component">Dieser Event wurde
  importiert von: https://www.andreas-koehs.de/de/konzertprogramm-de/konzert
 kalender/Eventdetail/86/-/musikalische-vesper-dreikoenigskirche-frankfurt-a
 ndreas-koehs-orgel?tmpl=component</a>DTSTAMP:20260421T070413
DTSTART;TZID=Europe/Berlin:20210220T170000
DTEND;TZID=Europe/Berlin:20210220T174500
SEQUENCE:0
TRANSP:OPAQUE
END:VEVENT
END:VCALENDAR