BEGIN:VCALENDAR
VERSION:2.0
PRODID:-//jEvents 2.0 for Joomla//EN
CALSCALE:GREGORIAN
METHOD:PUBLISH
BEGIN:VTIMEZONE
TZID:Europe/Berlin
BEGIN:STANDARD
DTSTART:20201025T020000
RDATE:20210328T030000
TZOFFSETFROM:+0200
TZOFFSETTO:+0100
TZNAME:Europe/Berlin CET
END:STANDARD
BEGIN:STANDARD
DTSTART:20211031T020000
RDATE:20220327T030000
TZOFFSETFROM:+0200
TZOFFSETTO:+0100
TZNAME:Europe/Berlin CET
END:STANDARD
BEGIN:STANDARD
DTSTART:20221030T020000
RDATE:20230326T030000
TZOFFSETFROM:+0200
TZOFFSETTO:+0100
TZNAME:Europe/Berlin CET
END:STANDARD
BEGIN:STANDARD
DTSTART:20231029T020000
RDATE:20240331T030000
TZOFFSETFROM:+0200
TZOFFSETTO:+0100
TZNAME:Europe/Berlin CET
END:STANDARD
BEGIN:STANDARD
DTSTART:20241027T020000
RDATE:20250330T030000
TZOFFSETFROM:+0200
TZOFFSETTO:+0100
TZNAME:Europe/Berlin CET
END:STANDARD
BEGIN:STANDARD
DTSTART:20251026T020000
RDATE:20260329T030000
TZOFFSETFROM:+0200
TZOFFSETTO:+0100
TZNAME:Europe/Berlin CET
END:STANDARD
BEGIN:STANDARD
DTSTART:20261025T020000
RDATE:20270328T030000
TZOFFSETFROM:+0200
TZOFFSETTO:+0100
TZNAME:Europe/Berlin CET
END:STANDARD
BEGIN:DAYLIGHT
DTSTART:20200410T100000
RDATE:20201025T020000
TZOFFSETFROM:+0100
TZOFFSETTO:+0200
TZNAME:Europe/Berlin CEST
END:DAYLIGHT
BEGIN:DAYLIGHT
DTSTART:20210328T030000
RDATE:20211031T020000
TZOFFSETFROM:+0100
TZOFFSETTO:+0200
TZNAME:Europe/Berlin CEST
END:DAYLIGHT
BEGIN:DAYLIGHT
DTSTART:20220327T030000
RDATE:20221030T020000
TZOFFSETFROM:+0100
TZOFFSETTO:+0200
TZNAME:Europe/Berlin CEST
END:DAYLIGHT
BEGIN:DAYLIGHT
DTSTART:20230326T030000
RDATE:20231029T020000
TZOFFSETFROM:+0100
TZOFFSETTO:+0200
TZNAME:Europe/Berlin CEST
END:DAYLIGHT
BEGIN:DAYLIGHT
DTSTART:20240331T030000
RDATE:20241027T020000
TZOFFSETFROM:+0100
TZOFFSETTO:+0200
TZNAME:Europe/Berlin CEST
END:DAYLIGHT
BEGIN:DAYLIGHT
DTSTART:20250330T030000
RDATE:20251026T020000
TZOFFSETFROM:+0100
TZOFFSETTO:+0200
TZNAME:Europe/Berlin CEST
END:DAYLIGHT
BEGIN:DAYLIGHT
DTSTART:20260329T030000
RDATE:20261025T020000
TZOFFSETFROM:+0100
TZOFFSETTO:+0200
TZNAME:Europe/Berlin CEST
END:DAYLIGHT
END:VTIMEZONE
BEGIN:VEVENT
UID:a01feda2a9ca2ea09e3b0a6ef2b2bed0
CATEGORIES:Kantatengottesdienst
CREATED:20210423T125557
SUMMARY:MUSIKALISCHE EUCHARISTIEFEIER zum 2. Sonntag nach Ostern | Pfarrkirche St. Martin Dietzenbach
LOCATION:: Katholische Kirche St. Martin\, Offenbacher Str. 5\, 63128 Dietzenbach Di
 etzenbach
URL;VALUE=URI:https://www.andreas-koehs.de/de/konzertprogramm/konzertkalender/Eventdetail
 /108/-/musikalische-eucharistiefeier-zum-2-sonntag-nach-ostern-pfarrkirche-
 st-martin-dietzenbach?tmpl=component
DESCRIPTION:Sonntag, 11.04.2021, 10:00 Uhr,\n (Sonntag der Barmherzigkeit)\nKatholische
  Pfarrkirche St. Martin Dietzenbach (https://bistummainz.de/pfarrei/dietzen
 bach/) \n(Offenbacher Straße 5, 63128 Dietzenbach)\nEucharistiefeier zum 2.
  Sonntag der Osterzeit\nGeorg Philipp Telemann (1681-1767)\n"Ich weiß, dass
  mein Erlöser lebt" | TWV 1:877\n(früher J. S. Bach zugeschrieben als BWV 1
 60)\nSolokantate für Tenor, Violine und Basso continuo\n\n\nAnmeldung erfor
 derlich im Pfarrbüro, Tel. 06074 3659\n \n Dieser Event wurde importiert vo
 n: https://www.andreas-koehs.de/de/konzertprogramm/konzertkalender/Eventdet
 ail/108/-/musikalische-eucharistiefeier-zum-2-sonntag-nach-ostern-pfarrkirc
 he-st-martin-dietzenbach?tmpl=component
X-ALT-DESC;FMTTYPE=text/html:<p style="text-align: left;"><strong>Sonntag, 11.04.2021, 10:00 Uhr,<br /> 
 </strong>(Sonntag der Barmherzigkeit)<strong><br /><a title="Katholische Pf
 arrkirche St. Martin Dietzenbach (Offenbacher Straße 5, 63128 Dietzenbach)"
  href="https://bistummainz.de/pfarrei/dietzenbach/" target="_blank" rel="al
 ternate noopener noreferrer">Katholische Pfarrkirche St. Martin Dietzenbach
 </a> <br /></strong>(Offenbacher Straße 5, 63128 Dietzenbach)</p><p style="
 text-align: left;"><strong>Eucharistiefeier zum 2. Sonntag der Osterzeit</s
 trong></p><p style="text-align: left;"><strong>Georg Philipp Telemann</stro
 ng> (1681-1767)<br /><strong>"Ich weiß, dass mein Erlöser lebt" </strong>| 
 TWV 1:877<br />(früher J. S. Bach zugeschrieben als BWV 160)<br />Solokanta
 te für Tenor, Violine und Basso continuo<br /><br /></p><p style="text-alig
 n: left;"><strong>Anmeldung erforderlich im Pfarrbüro, Tel. 06074 3659</str
 ong></p><p style="text-align: left;"> </p><hr /> <a href="https://www.andre
 as-koehs.de/de/konzertprogramm/konzertkalender/Eventdetail/108/-/musikalisc
 he-eucharistiefeier-zum-2-sonntag-nach-ostern-pfarrkirche-st-martin-dietzen
 bach?tmpl=component">Dieser Event wurde importiert von: https://www.andreas
 -koehs.de/de/konzertprogramm/konzertkalender/Eventdetail/108/-/musikalische
 -eucharistiefeier-zum-2-sonntag-nach-ostern-pfarrkirche-st-martin-dietzenba
 ch?tmpl=component</a>DTSTAMP:20260421T070336
DTSTART;TZID=Europe/Berlin:20210411T100000
DTEND;TZID=Europe/Berlin:20210411T110000
SEQUENCE:0
TRANSP:OPAQUE
END:VEVENT
END:VCALENDAR