BEGIN:VCALENDAR
VERSION:2.0
PRODID:-//jEvents 2.0 for Joomla//EN
CALSCALE:GREGORIAN
METHOD:PUBLISH
BEGIN:VTIMEZONE
TZID:Europe/Berlin
BEGIN:STANDARD
DTSTART:20210115T100000
RDATE:20210328T030000
TZOFFSETFROM:+0200
TZOFFSETTO:+0100
TZNAME:Europe/Berlin CET
END:STANDARD
BEGIN:STANDARD
DTSTART:20211031T020000
RDATE:20220327T030000
TZOFFSETFROM:+0200
TZOFFSETTO:+0100
TZNAME:Europe/Berlin CET
END:STANDARD
BEGIN:STANDARD
DTSTART:20221030T020000
RDATE:20230326T030000
TZOFFSETFROM:+0200
TZOFFSETTO:+0100
TZNAME:Europe/Berlin CET
END:STANDARD
BEGIN:STANDARD
DTSTART:20231029T020000
RDATE:20240331T030000
TZOFFSETFROM:+0200
TZOFFSETTO:+0100
TZNAME:Europe/Berlin CET
END:STANDARD
BEGIN:STANDARD
DTSTART:20241027T020000
RDATE:20250330T030000
TZOFFSETFROM:+0200
TZOFFSETTO:+0100
TZNAME:Europe/Berlin CET
END:STANDARD
BEGIN:STANDARD
DTSTART:20251026T020000
RDATE:20260329T030000
TZOFFSETFROM:+0200
TZOFFSETTO:+0100
TZNAME:Europe/Berlin CET
END:STANDARD
BEGIN:STANDARD
DTSTART:20261025T020000
RDATE:20270328T030000
TZOFFSETFROM:+0200
TZOFFSETTO:+0100
TZNAME:Europe/Berlin CET
END:STANDARD
BEGIN:DAYLIGHT
DTSTART:20210328T030000
RDATE:20211031T020000
TZOFFSETFROM:+0100
TZOFFSETTO:+0200
TZNAME:Europe/Berlin CEST
END:DAYLIGHT
BEGIN:DAYLIGHT
DTSTART:20220327T030000
RDATE:20221030T020000
TZOFFSETFROM:+0100
TZOFFSETTO:+0200
TZNAME:Europe/Berlin CEST
END:DAYLIGHT
BEGIN:DAYLIGHT
DTSTART:20230326T030000
RDATE:20231029T020000
TZOFFSETFROM:+0100
TZOFFSETTO:+0200
TZNAME:Europe/Berlin CEST
END:DAYLIGHT
BEGIN:DAYLIGHT
DTSTART:20240331T030000
RDATE:20241027T020000
TZOFFSETFROM:+0100
TZOFFSETTO:+0200
TZNAME:Europe/Berlin CEST
END:DAYLIGHT
BEGIN:DAYLIGHT
DTSTART:20250330T030000
RDATE:20251026T020000
TZOFFSETFROM:+0100
TZOFFSETTO:+0200
TZNAME:Europe/Berlin CEST
END:DAYLIGHT
BEGIN:DAYLIGHT
DTSTART:20260329T030000
RDATE:20261025T020000
TZOFFSETFROM:+0100
TZOFFSETTO:+0200
TZNAME:Europe/Berlin CEST
END:DAYLIGHT
END:VTIMEZONE
BEGIN:VEVENT
UID:c9da70a76e82325c2d8973c2a4e15767
CATEGORIES:Kantatengottesdienst
CREATED:20211222T185402
SUMMARY:KANTATENGOTTESDIENST - J.S. Bach | BWV 151 - in der BERGKIRCHE F-Sachsenhausen
LOCATION:: Bergkirche Frankfurt-Sachsenhausen\, Sachsenhäuser Landwehrweg 157
URL;VALUE=URI:https://www.andreas-koehs.de/de/konzertprogramm/konzertkalender/Eventdetail
 /136/-/kantatengottesdienst-j-s-bach-bwv-151-in-der-bergkirche-f-sachsenhau
 sen?tmpl=component
DESCRIPTION:<p style="text-align: left;"><strong>Sonntag, 16.01.2022, 10:00 Uhr,<br /><
 /strong>(2. Sonntag nach Epiphanias)<strong><br /><a title="Bergkirche Fran
 kfurt-Sachsenhausen (Sachsenhäuser Landwehrweg 157, 60599 Frankfurt am Main
 )">Bergkirche Frankfurt am Main-Sachsenhausen</a></strong></p><p style="tex
 t-align: left;"><strong>Kantatengottesdienst</strong></p><p style="text-ali
 gn: left;"><strong>Johann Sebastian Bach </strong>(1685-1750)<br /><strong>
 "Süßer Trost, mein Jesu kömmt" </strong>| BWV 151<strong><br /></strong>Sol
 istische Aufführung ohne Chor<strong><br /></strong></p> <a href="https://w
 ww.andreas-koehs.de/de/konzertprogramm/konzertkalender/Eventdetail/136/-/ka
 ntatengottesdienst-j-s-bach-bwv-151-in-der-bergkirche-f-sachsenhausen?tmpl=
 component">Dieser Event wurde importiert von: https://www.andreas-koehs.de/
 de/konzertprogramm/konzertkalender/Eventdetail/136/-/kantatengottesdienst-j
 -s-bach-bwv-151-in-der-bergkirche-f-sachsenhausen?tmpl=component</a>DTSTAMP:20260421T073611
DTSTART;TZID=Europe/Berlin:20220116T100000
DTEND;TZID=Europe/Berlin:20220116T110000
SEQUENCE:0
TRANSP:OPAQUE
END:VEVENT
END:VCALENDAR