BEGIN:VCALENDAR
VERSION:2.0
PRODID:-//jEvents 2.0 for Joomla//EN
CALSCALE:GREGORIAN
METHOD:PUBLISH
BEGIN:VTIMEZONE
TZID:Europe/Berlin
BEGIN:STANDARD
DTSTART:20210212T100000
RDATE:20210328T030000
TZOFFSETFROM:+0200
TZOFFSETTO:+0100
TZNAME:Europe/Berlin CET
END:STANDARD
BEGIN:STANDARD
DTSTART:20211031T020000
RDATE:20220327T030000
TZOFFSETFROM:+0200
TZOFFSETTO:+0100
TZNAME:Europe/Berlin CET
END:STANDARD
BEGIN:STANDARD
DTSTART:20221030T020000
RDATE:20230326T030000
TZOFFSETFROM:+0200
TZOFFSETTO:+0100
TZNAME:Europe/Berlin CET
END:STANDARD
BEGIN:STANDARD
DTSTART:20231029T020000
RDATE:20240331T030000
TZOFFSETFROM:+0200
TZOFFSETTO:+0100
TZNAME:Europe/Berlin CET
END:STANDARD
BEGIN:STANDARD
DTSTART:20241027T020000
RDATE:20250330T030000
TZOFFSETFROM:+0200
TZOFFSETTO:+0100
TZNAME:Europe/Berlin CET
END:STANDARD
BEGIN:STANDARD
DTSTART:20251026T020000
RDATE:20260329T030000
TZOFFSETFROM:+0200
TZOFFSETTO:+0100
TZNAME:Europe/Berlin CET
END:STANDARD
BEGIN:STANDARD
DTSTART:20261025T020000
RDATE:20270328T030000
TZOFFSETFROM:+0200
TZOFFSETTO:+0100
TZNAME:Europe/Berlin CET
END:STANDARD
BEGIN:DAYLIGHT
DTSTART:20210328T030000
RDATE:20211031T020000
TZOFFSETFROM:+0100
TZOFFSETTO:+0200
TZNAME:Europe/Berlin CEST
END:DAYLIGHT
BEGIN:DAYLIGHT
DTSTART:20220327T030000
RDATE:20221030T020000
TZOFFSETFROM:+0100
TZOFFSETTO:+0200
TZNAME:Europe/Berlin CEST
END:DAYLIGHT
BEGIN:DAYLIGHT
DTSTART:20230326T030000
RDATE:20231029T020000
TZOFFSETFROM:+0100
TZOFFSETTO:+0200
TZNAME:Europe/Berlin CEST
END:DAYLIGHT
BEGIN:DAYLIGHT
DTSTART:20240331T030000
RDATE:20241027T020000
TZOFFSETFROM:+0100
TZOFFSETTO:+0200
TZNAME:Europe/Berlin CEST
END:DAYLIGHT
BEGIN:DAYLIGHT
DTSTART:20250330T030000
RDATE:20251026T020000
TZOFFSETFROM:+0100
TZOFFSETTO:+0200
TZNAME:Europe/Berlin CEST
END:DAYLIGHT
BEGIN:DAYLIGHT
DTSTART:20260329T030000
RDATE:20261025T020000
TZOFFSETFROM:+0100
TZOFFSETTO:+0200
TZNAME:Europe/Berlin CEST
END:DAYLIGHT
END:VTIMEZONE
BEGIN:VEVENT
UID:95ce3b84d1f2d33d04f2513f3f03bb57
CATEGORIES:Kantatengottesdienst
CREATED:20211222T185508
SUMMARY:KANTATENGOTTESDIENST - J.S. Bach | BWV 92 - in der DREIKÖNIGSKIRCHE
LOCATION:: Dreikönigskirche Frankfurt am Main (Sachsenhäuser Ufer | Nähe Eiserner St
 eg)
URL;VALUE=URI:https://www.andreas-koehs.de/de/konzertprogramm/konzertkalender/Eventdetail
 /137/-/kantatengottesdienst-j-s-bach-bwv-92-in-der-dreikoenigskirche?tmpl=c
 omponent
DESCRIPTION:Sonntag, 13.02.2022, 10:00 Uhr, \n(Septuagesimae)\n Dreikönigskirche Frankf
 urt am Main (https://www.kirchenmusik-dreikoenig.de)\nKantatengottesdienst\
 nJohann Sebastian Bach (1685-1750) \n"Ich hab' in Gottes Herz und Sinn"| BW
 V 92\nSolistische Aufführung ohne Chor\n\n Dieser Event wurde importiert vo
 n: https://www.andreas-koehs.de/de/konzertprogramm/konzertkalender/Eventdet
 ail/137/-/kantatengottesdienst-j-s-bach-bwv-92-in-der-dreikoenigskirche?tmp
 l=component
X-ALT-DESC;FMTTYPE=text/html:<p style="text-align: left;"><strong>Sonntag, 13.02.2022, 10:00 Uhr, <br />
 </strong>(Septuagesimae)<strong><br /> <a title="Dreikönigskirche Frankfurt
  am Main (Sachsenhäuser Mainufer, Nähe Eiserner Steg)" href="https://www.ki
 rchenmusik-dreikoenig.de" target="_blank" rel="alternate noopener noreferre
 r">Dreikönigskirche Frankfurt am Main</a></strong></p><p style="text-align:
  left;"><strong>Kantatengottesdienst</strong></p><p style="text-align: left
 ;"><strong>Johann Sebastian Bach </strong>(1685-1750) <br /><strong>"Ich ha
 b' in Gottes Herz und Sinn"</strong>| BWV 92<strong><br /></strong>Solistis
 che Aufführung ohne Chor<strong><br /></strong></p> <a href="https://www.an
 dreas-koehs.de/de/konzertprogramm/konzertkalender/Eventdetail/137/-/kantate
 ngottesdienst-j-s-bach-bwv-92-in-der-dreikoenigskirche?tmpl=component">Dies
 er Event wurde importiert von: https://www.andreas-koehs.de/de/konzertprogr
 amm/konzertkalender/Eventdetail/137/-/kantatengottesdienst-j-s-bach-bwv-92-
 in-der-dreikoenigskirche?tmpl=component</a>DTSTAMP:20260421T072832
DTSTART;TZID=Europe/Berlin:20220213T100000
DTEND;TZID=Europe/Berlin:20220213T110000
SEQUENCE:0
TRANSP:OPAQUE
END:VEVENT
END:VCALENDAR