BEGIN:VCALENDAR
VERSION:2.0
PRODID:-//jEvents 2.0 for Joomla//EN
CALSCALE:GREGORIAN
METHOD:PUBLISH
BEGIN:VTIMEZONE
TZID:Europe/Berlin
BEGIN:STANDARD
DTSTART:20210326T090000
RDATE:20210328T030000
TZOFFSETFROM:+0200
TZOFFSETTO:+0100
TZNAME:Europe/Berlin CET
END:STANDARD
BEGIN:STANDARD
DTSTART:20211031T020000
RDATE:20220327T030000
TZOFFSETFROM:+0200
TZOFFSETTO:+0100
TZNAME:Europe/Berlin CET
END:STANDARD
BEGIN:STANDARD
DTSTART:20221030T020000
RDATE:20230326T030000
TZOFFSETFROM:+0200
TZOFFSETTO:+0100
TZNAME:Europe/Berlin CET
END:STANDARD
BEGIN:STANDARD
DTSTART:20231029T020000
RDATE:20240331T030000
TZOFFSETFROM:+0200
TZOFFSETTO:+0100
TZNAME:Europe/Berlin CET
END:STANDARD
BEGIN:STANDARD
DTSTART:20241027T020000
RDATE:20250330T030000
TZOFFSETFROM:+0200
TZOFFSETTO:+0100
TZNAME:Europe/Berlin CET
END:STANDARD
BEGIN:STANDARD
DTSTART:20251026T020000
RDATE:20260329T030000
TZOFFSETFROM:+0200
TZOFFSETTO:+0100
TZNAME:Europe/Berlin CET
END:STANDARD
BEGIN:STANDARD
DTSTART:20261025T020000
RDATE:20270328T030000
TZOFFSETFROM:+0200
TZOFFSETTO:+0100
TZNAME:Europe/Berlin CET
END:STANDARD
BEGIN:DAYLIGHT
DTSTART:20210328T030000
RDATE:20211031T020000
TZOFFSETFROM:+0100
TZOFFSETTO:+0200
TZNAME:Europe/Berlin CEST
END:DAYLIGHT
BEGIN:DAYLIGHT
DTSTART:20220327T030000
RDATE:20221030T020000
TZOFFSETFROM:+0100
TZOFFSETTO:+0200
TZNAME:Europe/Berlin CEST
END:DAYLIGHT
BEGIN:DAYLIGHT
DTSTART:20230326T030000
RDATE:20231029T020000
TZOFFSETFROM:+0100
TZOFFSETTO:+0200
TZNAME:Europe/Berlin CEST
END:DAYLIGHT
BEGIN:DAYLIGHT
DTSTART:20240331T030000
RDATE:20241027T020000
TZOFFSETFROM:+0100
TZOFFSETTO:+0200
TZNAME:Europe/Berlin CEST
END:DAYLIGHT
BEGIN:DAYLIGHT
DTSTART:20250330T030000
RDATE:20251026T020000
TZOFFSETFROM:+0100
TZOFFSETTO:+0200
TZNAME:Europe/Berlin CEST
END:DAYLIGHT
BEGIN:DAYLIGHT
DTSTART:20260329T030000
RDATE:20261025T020000
TZOFFSETFROM:+0100
TZOFFSETTO:+0200
TZNAME:Europe/Berlin CEST
END:DAYLIGHT
END:VTIMEZONE
BEGIN:VEVENT
UID:476ddf40302893708fc33a5cab033add
CATEGORIES:Kantatengottesdienst
CREATED:20211222T185941
SUMMARY:KANTATENGOTTESDIENST - D. Buxtehude | BuxWV 95 - J.H. Schein -  in der DREIKÖNIGSKIRCHE
LOCATION:: Dreikönigskirche Frankfurt am Main (Sachsenhäuser Ufer | Nähe Eiserner St
 eg)
URL;VALUE=URI:https://www.andreas-koehs.de/de/konzertprogramm/konzertkalender/Eventdetail
 /139/-/kantatengottesdienst-d-buxtehude-buxwv-95-j-h-schein-in-der-dreikoen
 igskirche?tmpl=component
DESCRIPTION:<p style="text-align: left;"><strong>Sonntag, 27.03.2022, 10:00 Uhr, <br />
 </strong>(Laetare)<strong><br /> <a title="Dreikönigskirche Frankfurt am Ma
 in (Sachsenhäuser Mainufer, Nähe Eiserner Steg)" href="https://www.kirchenm
 usik-dreikoenig.de" target="_blank" rel="alternate noopener noreferrer">Dre
 ikönigskirche Frankfurt am Main</a></strong></p><p style="text-align: left;
 "><strong>Kantatengottesdienst</strong></p><p style="text-align: left;"><st
 rong>Dietrich Buxtehude </strong>(um 1637-1707) <br /><strong>"Schaffe in m
 ir, Gott"</strong>| BuxWV 95<strong><br />Johann Hermann Schein</strong> (1
 586-1630)<strong> <br />"Fürwahr, er trug unsere Krankheit"<br /></strong>S
 olistische Aufführung ohne Chor<strong><br /></strong></p> <a href="https:/
 /www.andreas-koehs.de/de/konzertprogramm/konzertkalender/Eventdetail/139/-/
 kantatengottesdienst-d-buxtehude-buxwv-95-j-h-schein-in-der-dreikoenigskirc
 he?tmpl=component">Dieser Event wurde importiert von: https://www.andreas-k
 oehs.de/de/konzertprogramm/konzertkalender/Eventdetail/139/-/kantatengottes
 dienst-d-buxtehude-buxwv-95-j-h-schein-in-der-dreikoenigskirche?tmpl=compon
 ent</a>DTSTAMP:20260421T073753
DTSTART;TZID=Europe/Berlin:20220327T100000
DTEND;TZID=Europe/Berlin:20220327T110000
SEQUENCE:0
TRANSP:OPAQUE
END:VEVENT
END:VCALENDAR