BEGIN:VCALENDAR
VERSION:2.0
PRODID:-//jEvents 2.0 for Joomla//EN
CALSCALE:GREGORIAN
METHOD:PUBLISH
BEGIN:VTIMEZONE
TZID:Europe/Berlin
BEGIN:STANDARD
DTSTART:20211031T020000
RDATE:20220327T030000
TZOFFSETFROM:+0200
TZOFFSETTO:+0100
TZNAME:Europe/Berlin CET
END:STANDARD
BEGIN:STANDARD
DTSTART:20221030T020000
RDATE:20230326T030000
TZOFFSETFROM:+0200
TZOFFSETTO:+0100
TZNAME:Europe/Berlin CET
END:STANDARD
BEGIN:STANDARD
DTSTART:20231029T020000
RDATE:20240331T030000
TZOFFSETFROM:+0200
TZOFFSETTO:+0100
TZNAME:Europe/Berlin CET
END:STANDARD
BEGIN:STANDARD
DTSTART:20241027T020000
RDATE:20250330T030000
TZOFFSETFROM:+0200
TZOFFSETTO:+0100
TZNAME:Europe/Berlin CET
END:STANDARD
BEGIN:STANDARD
DTSTART:20251026T020000
RDATE:20260329T030000
TZOFFSETFROM:+0200
TZOFFSETTO:+0100
TZNAME:Europe/Berlin CET
END:STANDARD
BEGIN:STANDARD
DTSTART:20261025T020000
RDATE:20270328T030000
TZOFFSETFROM:+0200
TZOFFSETTO:+0100
TZNAME:Europe/Berlin CET
END:STANDARD
BEGIN:DAYLIGHT
DTSTART:20210709T110000
RDATE:20211031T020000
TZOFFSETFROM:+0100
TZOFFSETTO:+0200
TZNAME:Europe/Berlin CEST
END:DAYLIGHT
BEGIN:DAYLIGHT
DTSTART:20220327T030000
RDATE:20221030T020000
TZOFFSETFROM:+0100
TZOFFSETTO:+0200
TZNAME:Europe/Berlin CEST
END:DAYLIGHT
BEGIN:DAYLIGHT
DTSTART:20230326T030000
RDATE:20231029T020000
TZOFFSETFROM:+0100
TZOFFSETTO:+0200
TZNAME:Europe/Berlin CEST
END:DAYLIGHT
BEGIN:DAYLIGHT
DTSTART:20240331T030000
RDATE:20241027T020000
TZOFFSETFROM:+0100
TZOFFSETTO:+0200
TZNAME:Europe/Berlin CEST
END:DAYLIGHT
BEGIN:DAYLIGHT
DTSTART:20250330T030000
RDATE:20251026T020000
TZOFFSETFROM:+0100
TZOFFSETTO:+0200
TZNAME:Europe/Berlin CEST
END:DAYLIGHT
BEGIN:DAYLIGHT
DTSTART:20260329T030000
RDATE:20261025T020000
TZOFFSETFROM:+0100
TZOFFSETTO:+0200
TZNAME:Europe/Berlin CEST
END:DAYLIGHT
END:VTIMEZONE
BEGIN:VEVENT
UID:210de5b58012747390fc1b0589fa0b8d
CATEGORIES:Kantatengottesdienst
CREATED:20211222T190906
SUMMARY:KANTATENGOTTESDIENST - J.S. Bach | BWV 177 - in der DREIKÖNIGSKIRCHE
LOCATION:: Dreikönigskirche Frankfurt am Main (Sachsenhäuser Ufer | Nähe Eiserner St
 eg)
URL;VALUE=URI:https://www.andreas-koehs.de/de/konzertprogramm/konzertkalender/Eventdetail
 /146/-/kantatengottesdienst-j-s-bach-bwv-177-in-der-dreikoenigskirche?tmpl=
 component
DESCRIPTION:<p style="text-align: left;"><strong>Sonntag, 10.07.2022, <span style="text
 -decoration: underline;">11:00</span> Uhr, <br /></strong>(4. Sonntag nach 
 Trinitatis)<strong><br /><a title="Dreikönigskirche Frankfurt am Main (Sach
 senhäuser Mainufer, Nähe Eiserner Steg)" href="https://www.kirchenmusik-dre
 ikoenig.de" target="_blank" rel="alternate noopener noreferrer">Dreikönigsk
 irche Frankfurt am Main</a></strong></p><p style="text-align: left;"><stron
 g>Kantatengottesdienst </strong></p><p style="text-align: left;"><strong>Jo
 hann Sebastian Bach</strong> (1685-1750)<strong><br /></strong><strong>"Ich
  ruf zu dir, Herr Jesu Christ" </strong>| BWV 177<br />Solistische Aufführu
 ng ohne Chor</p> <a href="https://www.andreas-koehs.de/de/konzertprogramm/k
 onzertkalender/Eventdetail/146/-/kantatengottesdienst-j-s-bach-bwv-177-in-d
 er-dreikoenigskirche?tmpl=component">Dieser Event wurde importiert von: htt
 ps://www.andreas-koehs.de/de/konzertprogramm/konzertkalender/Eventdetail/14
 6/-/kantatengottesdienst-j-s-bach-bwv-177-in-der-dreikoenigskirche?tmpl=com
 ponent</a>DTSTAMP:20260421T073627
DTSTART;TZID=Europe/Berlin:20220710T110000
DTEND;TZID=Europe/Berlin:20220710T120000
SEQUENCE:0
TRANSP:OPAQUE
END:VEVENT
END:VCALENDAR