BEGIN:VCALENDAR
VERSION:2.0
PRODID:-//jEvents 2.0 for Joomla//EN
CALSCALE:GREGORIAN
METHOD:PUBLISH
BEGIN:VTIMEZONE
TZID:Europe/Berlin
BEGIN:STANDARD
DTSTART:20211031T020000
RDATE:20220327T030000
TZOFFSETFROM:+0200
TZOFFSETTO:+0100
TZNAME:Europe/Berlin CET
END:STANDARD
BEGIN:STANDARD
DTSTART:20221030T020000
RDATE:20230326T030000
TZOFFSETFROM:+0200
TZOFFSETTO:+0100
TZNAME:Europe/Berlin CET
END:STANDARD
BEGIN:STANDARD
DTSTART:20231029T020000
RDATE:20240331T030000
TZOFFSETFROM:+0200
TZOFFSETTO:+0100
TZNAME:Europe/Berlin CET
END:STANDARD
BEGIN:STANDARD
DTSTART:20241027T020000
RDATE:20250330T030000
TZOFFSETFROM:+0200
TZOFFSETTO:+0100
TZNAME:Europe/Berlin CET
END:STANDARD
BEGIN:STANDARD
DTSTART:20251026T020000
RDATE:20260329T030000
TZOFFSETFROM:+0200
TZOFFSETTO:+0100
TZNAME:Europe/Berlin CET
END:STANDARD
BEGIN:STANDARD
DTSTART:20261025T020000
RDATE:20270328T030000
TZOFFSETFROM:+0200
TZOFFSETTO:+0100
TZNAME:Europe/Berlin CET
END:STANDARD
BEGIN:DAYLIGHT
DTSTART:20210422T193000
RDATE:20211031T020000
TZOFFSETFROM:+0100
TZOFFSETTO:+0200
TZNAME:Europe/Berlin CEST
END:DAYLIGHT
BEGIN:DAYLIGHT
DTSTART:20220327T030000
RDATE:20221030T020000
TZOFFSETFROM:+0100
TZOFFSETTO:+0200
TZNAME:Europe/Berlin CEST
END:DAYLIGHT
BEGIN:DAYLIGHT
DTSTART:20230326T030000
RDATE:20231029T020000
TZOFFSETFROM:+0100
TZOFFSETTO:+0200
TZNAME:Europe/Berlin CEST
END:DAYLIGHT
BEGIN:DAYLIGHT
DTSTART:20240331T030000
RDATE:20241027T020000
TZOFFSETFROM:+0100
TZOFFSETTO:+0200
TZNAME:Europe/Berlin CEST
END:DAYLIGHT
BEGIN:DAYLIGHT
DTSTART:20250330T030000
RDATE:20251026T020000
TZOFFSETFROM:+0100
TZOFFSETTO:+0200
TZNAME:Europe/Berlin CEST
END:DAYLIGHT
BEGIN:DAYLIGHT
DTSTART:20260329T030000
RDATE:20261025T020000
TZOFFSETFROM:+0100
TZOFFSETTO:+0200
TZNAME:Europe/Berlin CEST
END:DAYLIGHT
END:VTIMEZONE
BEGIN:VEVENT
UID:d4507850276dca9ac1c8d2857acfcc97
CATEGORIES:Chorkonzert
CREATED:20220208T102704
SUMMARY:"MUSICA SALISBURGENSIS" | Abschlusskonzert | Tage der Alten Chormusik || St. Michael Bernkastel-Kues
LOCATION:: Pfarrkirche St. Michael Bernkastel\, Mandatstr. 8\, 54470 Bernkastel-Kues
URL;VALUE=URI:https://www.andreas-koehs.de/de/konzertprogramm/konzertkalender/Eventdetail
 /169/-/musica-salisburgensis-abschlusskonzert-tage-der-alten-chormusik-st-m
 ichael-bernkastel-kues?tmpl=component
DESCRIPTION:Samstag, 23.04.2022, 19:30 Uhr, \nPfarrkirche St. Michael Bernkastel (https
 ://www.pfarrei.de/bernkastel/pfarrkirche-st-michael.html) \n(Mandatstraße 8
 , 54470 Bernkastel-Kues)\n36. Tage der Alten Chormusik\nAbschlusskonzert "M
 USICA SALISBURGENSIS"\n\nProjektchor der Tage der alten Chormusik\n„CAPPELL
 A CUSANA“\nOrchester mit Originalinstrumenten\n„CAMERATA EYFALIA“\nFreunde 
 der alten Chormusik e. V. (http://www.freunde-der-alten-chormusik.de)\n (ht
 tp://www.freunde-der-alten-chormusik.de/)Orgel und Leitung: Andreas Köhs\n 
 Dieser Event wurde importiert von: https://www.andreas-koehs.de/de/konzertp
 rogramm/konzertkalender/Eventdetail/169/-/musica-salisburgensis-abschlussko
 nzert-tage-der-alten-chormusik-st-michael-bernkastel-kues?tmpl=component
X-ALT-DESC;FMTTYPE=text/html:<p style="text-align: left;"><strong>Samstag, 23.04.2022, 19:30 Uhr, <br />
 <a title="Pfarrkirche St. Michael, Mandatstraße 8, 54470 Bernkastel-Kues" h
 ref="https://www.pfarrei.de/bernkastel/pfarrkirche-st-michael.html" target=
 "_blank" rel="alternate noopener noreferrer">Pfarrkirche St. Michael Bernka
 stel</a> <br /></strong>(Mandatstraße 8, 54470 Bernkastel-Kues)</p><p style
 ="text-align: left;"><strong>36. Tage der Alten Chormusik</strong><br /><st
 rong>Abschlusskonzert "MUSICA SALISBURGENSIS"<br /></strong><br />Projektch
 or der Tage der alten Chormusik<br />„CAPPELLA CUSANA“<br />Orchester mit O
 riginalinstrumenten<br />„CAMERATA EYFALIA“<br /><a title="Freunde der alte
 n Chormusik e. V." href="http://www.freunde-der-alten-chormusik.de" target=
 "_blank" rel="alternate noopener noreferrer">Freunde der alten Chormusik e.
  V.</a><a href="http://www.freunde-der-alten-chormusik.de/" target="_blank"
  rel="alternate noopener noreferrer"><br /></a>Orgel und Leitung: Andreas K
 öhs</p> <a href="https://www.andreas-koehs.de/de/konzertprogramm/konzertkal
 ender/Eventdetail/169/-/musica-salisburgensis-abschlusskonzert-tage-der-alt
 en-chormusik-st-michael-bernkastel-kues?tmpl=component">Dieser Event wurde 
 importiert von: https://www.andreas-koehs.de/de/konzertprogramm/konzertkale
 nder/Eventdetail/169/-/musica-salisburgensis-abschlusskonzert-tage-der-alte
 n-chormusik-st-michael-bernkastel-kues?tmpl=component</a>DTSTAMP:20260426T031335
DTSTART;TZID=Europe/Berlin:20220423T193000
DTEND;TZID=Europe/Berlin:20220423T210000
SEQUENCE:0
TRANSP:OPAQUE
END:VEVENT
END:VCALENDAR