BEGIN:VCALENDAR
VERSION:2.0
PRODID:-//jEvents 2.0 for Joomla//EN
CALSCALE:GREGORIAN
METHOD:PUBLISH
BEGIN:VTIMEZONE
TZID:Europe/Berlin
BEGIN:STANDARD
DTSTART:20221030T020000
RDATE:20230326T030000
TZOFFSETFROM:+0200
TZOFFSETTO:+0100
TZNAME:Europe/Berlin CET
END:STANDARD
BEGIN:STANDARD
DTSTART:20231029T020000
RDATE:20240331T030000
TZOFFSETFROM:+0200
TZOFFSETTO:+0100
TZNAME:Europe/Berlin CET
END:STANDARD
BEGIN:STANDARD
DTSTART:20241027T020000
RDATE:20250330T030000
TZOFFSETFROM:+0200
TZOFFSETTO:+0100
TZNAME:Europe/Berlin CET
END:STANDARD
BEGIN:STANDARD
DTSTART:20251026T020000
RDATE:20260329T030000
TZOFFSETFROM:+0200
TZOFFSETTO:+0100
TZNAME:Europe/Berlin CET
END:STANDARD
BEGIN:STANDARD
DTSTART:20261025T020000
RDATE:20270328T030000
TZOFFSETFROM:+0200
TZOFFSETTO:+0100
TZNAME:Europe/Berlin CET
END:STANDARD
BEGIN:DAYLIGHT
DTSTART:20220429T110000
RDATE:20221030T020000
TZOFFSETFROM:+0100
TZOFFSETTO:+0200
TZNAME:Europe/Berlin CEST
END:DAYLIGHT
BEGIN:DAYLIGHT
DTSTART:20230326T030000
RDATE:20231029T020000
TZOFFSETFROM:+0100
TZOFFSETTO:+0200
TZNAME:Europe/Berlin CEST
END:DAYLIGHT
BEGIN:DAYLIGHT
DTSTART:20240331T030000
RDATE:20241027T020000
TZOFFSETFROM:+0100
TZOFFSETTO:+0200
TZNAME:Europe/Berlin CEST
END:DAYLIGHT
BEGIN:DAYLIGHT
DTSTART:20250330T030000
RDATE:20251026T020000
TZOFFSETFROM:+0100
TZOFFSETTO:+0200
TZNAME:Europe/Berlin CEST
END:DAYLIGHT
BEGIN:DAYLIGHT
DTSTART:20260329T030000
RDATE:20261025T020000
TZOFFSETFROM:+0100
TZOFFSETTO:+0200
TZNAME:Europe/Berlin CEST
END:DAYLIGHT
END:VTIMEZONE
BEGIN:VEVENT
UID:9e15d798b45e5023fb8b151ec0dd5521
CATEGORIES:Kantatengottesdienst
CREATED:20230116T214016
SUMMARY:KANTATENGOTTESDIENST | BWV 42 || DREIKÖNIGSKIRCHE
LOCATION:: Dreikönigskirche Frankfurt am Main (Sachsenhäuser Ufer | Nähe Eiserner St
 eg)
URL;VALUE=URI:https://www.andreas-koehs.de/de/konzertprogramm/konzertkalender/Eventdetail
 /193/-/kantatengottesdienst-bwv-42-dreikoenigskirche?tmpl=component
DESCRIPTION:Sonntag, 30.04.2023, 11:00 Uhr,\n(Jubilate)\nDreikönigskirche Frankfurt am 
 Main (https://www.kirchenmusik-dreikoenig.de)\nKantatengottesdienst\nJohann
  Sebastian Bach (1685-1750)\n"Am Abend aber desselbigen Sabbats" | BWV 42\n
 \nSimone Schwark | Sopran\nJulia Diefenbach | Alt\nChristian Rathgeber | Te
 nor\nJohannes Hill | Bass\nTelemann-Ensemble Frankfurt\nAndreas Köhs | Leit
 ung und Orgel\nPfarrerin Silke Alves-Christe | Liturgie und Predigt\n Diese
 r Event wurde importiert von: https://www.andreas-koehs.de/de/konzertprogra
 mm/konzertkalender/Eventdetail/193/-/kantatengottesdienst-bwv-42-dreikoenig
 skirche?tmpl=component
X-ALT-DESC;FMTTYPE=text/html:<p style="text-align: left;"><strong>Sonntag, 30.04.2023, 11:00 Uhr,<br /><
 /strong>(Jubilate)<strong><br /><a title="Dreikönigskirche Frankfurt am Mai
 n (Sachsenhäuser Mainufer, Nähe Eiserner Steg)" href="https://www.kirchenmu
 sik-dreikoenig.de" target="_blank" rel="alternate noopener noreferrer">Drei
 königskirche Frankfurt am Main</a></strong></p><p style="text-align: left;"
 ><strong>Kantatengottesdienst</strong></p><p style="text-align: left;"><str
 ong>J</strong><strong>ohann Sebastian Bach </strong>(1685-1750)<br /><stron
 g>"Am Abend aber desselbigen Sabbats"</strong> | BWV 42<strong><br /></stro
 ng></p><p style="text-align: left;">Simone Schwark | Sopran<br />Julia Dief
 enbach | Alt<br />Christian Rathgeber | Tenor<br />Johannes Hill | Bass<br 
 />Telemann-Ensemble Frankfurt<br />Andreas Köhs | Leitung und Orgel<br />Pf
 arrerin Silke Alves-Christe | Liturgie und Predigt</p> <a href="https://www
 .andreas-koehs.de/de/konzertprogramm/konzertkalender/Eventdetail/193/-/kant
 atengottesdienst-bwv-42-dreikoenigskirche?tmpl=component">Dieser Event wurd
 e importiert von: https://www.andreas-koehs.de/de/konzertprogramm/konzertka
 lender/Eventdetail/193/-/kantatengottesdienst-bwv-42-dreikoenigskirche?tmpl
 =component</a>DTSTAMP:20260421T070443
DTSTART;TZID=Europe/Berlin:20230430T110000
DTEND;TZID=Europe/Berlin:20230430T120000
SEQUENCE:0
TRANSP:OPAQUE
END:VEVENT
END:VCALENDAR