BEGIN:VCALENDAR
VERSION:2.0
PRODID:-//jEvents 2.0 for Joomla//EN
CALSCALE:GREGORIAN
METHOD:PUBLISH
BEGIN:VTIMEZONE
TZID:Europe/Berlin
BEGIN:STANDARD
DTSTART:20221030T020000
RDATE:20230326T030000
TZOFFSETFROM:+0200
TZOFFSETTO:+0100
TZNAME:Europe/Berlin CET
END:STANDARD
BEGIN:STANDARD
DTSTART:20231029T020000
RDATE:20240331T030000
TZOFFSETFROM:+0200
TZOFFSETTO:+0100
TZNAME:Europe/Berlin CET
END:STANDARD
BEGIN:STANDARD
DTSTART:20241027T020000
RDATE:20250330T030000
TZOFFSETFROM:+0200
TZOFFSETTO:+0100
TZNAME:Europe/Berlin CET
END:STANDARD
BEGIN:STANDARD
DTSTART:20251026T020000
RDATE:20260329T030000
TZOFFSETFROM:+0200
TZOFFSETTO:+0100
TZNAME:Europe/Berlin CET
END:STANDARD
BEGIN:STANDARD
DTSTART:20261025T020000
RDATE:20270328T030000
TZOFFSETFROM:+0200
TZOFFSETTO:+0100
TZNAME:Europe/Berlin CET
END:STANDARD
BEGIN:DAYLIGHT
DTSTART:20220406T150000
RDATE:20221030T020000
TZOFFSETFROM:+0100
TZOFFSETTO:+0200
TZNAME:Europe/Berlin CEST
END:DAYLIGHT
BEGIN:DAYLIGHT
DTSTART:20230326T030000
RDATE:20231029T020000
TZOFFSETFROM:+0100
TZOFFSETTO:+0200
TZNAME:Europe/Berlin CEST
END:DAYLIGHT
BEGIN:DAYLIGHT
DTSTART:20240331T030000
RDATE:20241027T020000
TZOFFSETFROM:+0100
TZOFFSETTO:+0200
TZNAME:Europe/Berlin CEST
END:DAYLIGHT
BEGIN:DAYLIGHT
DTSTART:20250330T030000
RDATE:20251026T020000
TZOFFSETFROM:+0100
TZOFFSETTO:+0200
TZNAME:Europe/Berlin CEST
END:DAYLIGHT
BEGIN:DAYLIGHT
DTSTART:20260329T030000
RDATE:20261025T020000
TZOFFSETFROM:+0100
TZOFFSETTO:+0200
TZNAME:Europe/Berlin CEST
END:DAYLIGHT
END:VTIMEZONE
BEGIN:VEVENT
UID:58c7e45be53124405390e087f41ec392
CATEGORIES:Instrumentalkonzert
CREATED:20230116T214246
SUMMARY:MUSIKALISCHE ANDACHT zum KARFREITAG || DREIKÖNIGSKIRCHE
LOCATION:: Dreikönigskirche Frankfurt am Main (Sachsenhäuser Ufer | Nähe Eiserner St
 eg)
URL;VALUE=URI:https://www.andreas-koehs.de/de/konzertprogramm/konzertkalender/Eventdetail
 /194/-/musikalische-andacht-zum-karfreitag-dreikoenigskirche?tmpl=component
DESCRIPTION:Karfreitag, 07.04.2023, 15:00 Uhr,\n(Karfreitag)\nDreikönigskirche Frankfur
 t am Main (https://www.kirchenmusik-dreikoenig.de)\nAndacht zur Todesstunde
  Jesu\n"Die Sieben Worte Jesu Christi am Kreuz"\nPetra Köhs | Violoncello\n
 Andreas Köhs | Orgel\nPfarrer Jürgen Seidl | Liturgie und Lesung\n \n \n \n
  Dieser Event wurde importiert von: https://www.andreas-koehs.de/de/konzert
 programm/konzertkalender/Eventdetail/194/-/musikalische-andacht-zum-karfrei
 tag-dreikoenigskirche?tmpl=component
X-ALT-DESC;FMTTYPE=text/html:<p style="text-align: left;"><strong>Karfreitag, 07.04.2023, 15:00 Uhr,<br 
 /></strong>(Karfreitag)<strong><br /><a title="Dreikönigskirche Frankfurt a
 m Main (Sachsenhäuser Mainufer, Nähe Eiserner Steg)" href="https://www.kirc
 henmusik-dreikoenig.de" target="_blank" rel="alternate noopener noreferrer"
 >Dreikönigskirche Frankfurt am Main</a></strong></p><p style="text-align: l
 eft;"><strong>Andacht zur Todesstunde Jesu<br />"Die Sieben Worte Jesu Chri
 sti am Kreuz"</strong></p><p style="text-align: left;">Petra Köhs | Violonc
 ello<br />Andreas Köhs | Orgel<br />Pfarrer Jürgen Seidl | Liturgie und Les
 ung</p><p> </p><p> </p><hr /><p style="text-align: left;"> </p> <a href="ht
 tps://www.andreas-koehs.de/de/konzertprogramm/konzertkalender/Eventdetail/1
 94/-/musikalische-andacht-zum-karfreitag-dreikoenigskirche?tmpl=component">
 Dieser Event wurde importiert von: https://www.andreas-koehs.de/de/konzertp
 rogramm/konzertkalender/Eventdetail/194/-/musikalische-andacht-zum-karfreit
 ag-dreikoenigskirche?tmpl=component</a>DTSTAMP:20260421T070157
DTSTART;TZID=Europe/Berlin:20230407T150000
DTEND;TZID=Europe/Berlin:20230407T160000
SEQUENCE:0
TRANSP:OPAQUE
END:VEVENT
END:VCALENDAR