BEGIN:VCALENDAR
VERSION:2.0
PRODID:-//jEvents 2.0 for Joomla//EN
CALSCALE:GREGORIAN
METHOD:PUBLISH
BEGIN:VTIMEZONE
TZID:Europe/Berlin
BEGIN:STANDARD
DTSTART:20221030T020000
RDATE:20230326T030000
TZOFFSETFROM:+0200
TZOFFSETTO:+0100
TZNAME:Europe/Berlin CET
END:STANDARD
BEGIN:STANDARD
DTSTART:20231029T020000
RDATE:20240331T030000
TZOFFSETFROM:+0200
TZOFFSETTO:+0100
TZNAME:Europe/Berlin CET
END:STANDARD
BEGIN:STANDARD
DTSTART:20241027T020000
RDATE:20250330T030000
TZOFFSETFROM:+0200
TZOFFSETTO:+0100
TZNAME:Europe/Berlin CET
END:STANDARD
BEGIN:STANDARD
DTSTART:20251026T020000
RDATE:20260329T030000
TZOFFSETFROM:+0200
TZOFFSETTO:+0100
TZNAME:Europe/Berlin CET
END:STANDARD
BEGIN:STANDARD
DTSTART:20261025T020000
RDATE:20270328T030000
TZOFFSETFROM:+0200
TZOFFSETTO:+0100
TZNAME:Europe/Berlin CET
END:STANDARD
BEGIN:DAYLIGHT
DTSTART:20220331T190000
RDATE:20221030T020000
TZOFFSETFROM:+0100
TZOFFSETTO:+0200
TZNAME:Europe/Berlin CEST
END:DAYLIGHT
BEGIN:DAYLIGHT
DTSTART:20230326T030000
RDATE:20231029T020000
TZOFFSETFROM:+0100
TZOFFSETTO:+0200
TZNAME:Europe/Berlin CEST
END:DAYLIGHT
BEGIN:DAYLIGHT
DTSTART:20240331T030000
RDATE:20241027T020000
TZOFFSETFROM:+0100
TZOFFSETTO:+0200
TZNAME:Europe/Berlin CEST
END:DAYLIGHT
BEGIN:DAYLIGHT
DTSTART:20250330T030000
RDATE:20251026T020000
TZOFFSETFROM:+0100
TZOFFSETTO:+0200
TZNAME:Europe/Berlin CEST
END:DAYLIGHT
BEGIN:DAYLIGHT
DTSTART:20260329T030000
RDATE:20261025T020000
TZOFFSETFROM:+0100
TZOFFSETTO:+0200
TZNAME:Europe/Berlin CEST
END:DAYLIGHT
END:VTIMEZONE
BEGIN:VEVENT
UID:71a248fe73b4d27298c1039da0262a53
CATEGORIES:Chorkonzert zur Passion
CREATED:20230117T175104
SUMMARY:CHORKONZERT zu PALMARUM "STABAT MATER" || Kurt-Thomas-Kammerchor || Ev.-Luth. KIRCHE FRIEDRICHSDORF-SEULBERG
LOCATION:: Ev.-Luth. Kirche Friedrichsdorf-Seulberg (Alt Seulberg 27\, 61381 Friedri
 chsdorf)
URL;VALUE=URI:https://www.andreas-koehs.de/de/konzertprogramm/konzertkalender/Eventdetail
 /211/-/chorkonzert-zu-palmarum-stabat-mater-kurt-thomas-kammerchor-ev-luth-
 kirche-friedrichsdorf-seulberg?tmpl=component
DESCRIPTION:Samstag, 01.04.2023, 19:00 Uhr,\nEv.-Luth. Kirche Friedrichsdorf-Seulberg \
 n (https://seulberg.evangelisch-hochtaunus.de/home/de.html)(Alt Seulberg 27
 , 61381 Friedrichsdorf)\nCHORKONZERT zu Palmarum\n"STABAT MATER" \nA-cappel
 la-Vokalwerke von \nGiovanni Pierluigi da Palestrina (1525-1594)\nWilliam B
 yrd (1543-1623),\nJohann Sebastian Bach (1685-1750), \nVytautas Miškinis (*
 1954), \nĒriks Ešenvalds (*1977) und\nKnut Nystedt (1915-2014):\nMISSA brev
 is, op. 102\nKURT-THOMAS-KAMMERCHOR\nwww.kurt-thomas-kammerchor.de (https:/
 /www.kurt-thomas-kammerchor.de)\nAndreas Köhs | Leitung\nwww.andreas-koehs.
 de (https://www.andreas-koehs.de/)\nWilliam Turner Walton (1902-1983):\nPas
 sacaglia für Violoncello solo\n\nPetra Köhs | Violoncello \nTickets: 15 EUR
 \n(Nur Abendkasse | freie Platzwahl)\n \n \n Dieser Event wurde importiert 
 von: https://www.andreas-koehs.de/de/konzertprogramm/konzertkalender/Eventd
 etail/211/-/chorkonzert-zu-palmarum-stabat-mater-kurt-thomas-kammerchor-ev-
 luth-kirche-friedrichsdorf-seulberg?tmpl=component
X-ALT-DESC;FMTTYPE=text/html:<p><strong>Samstag, 01.04.2023, 19:00 Uhr,<br /><a title="Ev.-Luth. Kirche 
 Friedrichsdorf-Seulberg (Alt Seulberg 27, 61381 Friedrichsdorf)" href="http
 s://seulberg.evangelisch-hochtaunus.de/home/de.html" target="_blank" rel="n
 oopener noreferrer">Ev.-Luth. Kirche Friedrichsdorf-Seulberg <br /></a></st
 rong>(Alt Seulberg 27, 61381 Friedrichsdorf)</p><h4 style="text-align: left
 ;"><strong>CHORKONZERT zu Palmarum<br />"STABAT MATER" <br /></strong></h4>
 <p style="text-align: left;"><strong>A-cappella-Vokalwerke von </strong><br
  /><strong>Giovanni Pierluigi da Palestrina</strong> (1525-1594)<br /><stro
 ng>William Byrd</strong> (1543-1623),<br /><strong>Johann Sebastian Bach</s
 trong> (1685-1750), <br /><strong>Vytautas Miškinis</strong> (*1954), <br /
 ><strong>Ēriks Ešenvalds</strong> (*1977) und<br /><strong>Knut Nystedt</st
 rong> (1915-2014):<br /><strong>MISSA brevis, op. 102</strong></p><hr /><p 
 style="text-align: left;"><strong>KURT-THOMAS-KAMMERCHOR</strong><br /><a t
 itle="www.kurt-thomas-kammerchor.de" href="https://www.kurt-thomas-kammerch
 or.de" target="_blank" rel="noopener noreferrer">www.kurt-thomas-kammerchor
 .de</a></p><p style="text-align: left;"><strong>Andreas Köhs</strong> | Lei
 tung<br /><a title="www.andreas-koehs.de" href="https://www.andreas-koehs.d
 e/" target="_blank" rel="noopener noreferrer">www.andreas-koehs.de</a></p><
 hr /><p style="text-align: left;"><strong>William Turner Walton</strong> (1
 902-1983):<br /><strong>Passacaglia für Violoncello solo<br /></strong></p>
 <p style="text-align: left;"><strong>Petra Köhs</strong> | Violoncello </p>
 <hr /><p style="text-align: left;">Tickets: 15 EUR<br />(Nur Abendkasse | f
 reie Platzwahl)</p><p> </p><hr /><p> </p> <a href="https://www.andreas-koeh
 s.de/de/konzertprogramm/konzertkalender/Eventdetail/211/-/chorkonzert-zu-pa
 lmarum-stabat-mater-kurt-thomas-kammerchor-ev-luth-kirche-friedrichsdorf-se
 ulberg?tmpl=component">Dieser Event wurde importiert von: https://www.andre
 as-koehs.de/de/konzertprogramm/konzertkalender/Eventdetail/211/-/chorkonzer
 t-zu-palmarum-stabat-mater-kurt-thomas-kammerchor-ev-luth-kirche-friedrichs
 dorf-seulberg?tmpl=component</a>DTSTAMP:20260421T070157
DTSTART;TZID=Europe/Berlin:20230401T190000
DTEND;TZID=Europe/Berlin:20230401T203000
SEQUENCE:0
TRANSP:OPAQUE
END:VEVENT
END:VCALENDAR