BEGIN:VCALENDAR
VERSION:2.0
PRODID:-//jEvents 2.0 for Joomla//EN
CALSCALE:GREGORIAN
METHOD:PUBLISH
BEGIN:VTIMEZONE
TZID:Europe/Berlin
BEGIN:STANDARD
DTSTART:20230323T180000
RDATE:20230326T030000
TZOFFSETFROM:+0200
TZOFFSETTO:+0100
TZNAME:Europe/Berlin CET
END:STANDARD
BEGIN:STANDARD
DTSTART:20231029T020000
RDATE:20240331T030000
TZOFFSETFROM:+0200
TZOFFSETTO:+0100
TZNAME:Europe/Berlin CET
END:STANDARD
BEGIN:STANDARD
DTSTART:20241027T020000
RDATE:20250330T030000
TZOFFSETFROM:+0200
TZOFFSETTO:+0100
TZNAME:Europe/Berlin CET
END:STANDARD
BEGIN:STANDARD
DTSTART:20251026T020000
RDATE:20260329T030000
TZOFFSETFROM:+0200
TZOFFSETTO:+0100
TZNAME:Europe/Berlin CET
END:STANDARD
BEGIN:STANDARD
DTSTART:20261025T020000
RDATE:20270328T030000
TZOFFSETFROM:+0200
TZOFFSETTO:+0100
TZNAME:Europe/Berlin CET
END:STANDARD
BEGIN:DAYLIGHT
DTSTART:20230326T030000
RDATE:20231029T020000
TZOFFSETFROM:+0100
TZOFFSETTO:+0200
TZNAME:Europe/Berlin CEST
END:DAYLIGHT
BEGIN:DAYLIGHT
DTSTART:20240331T030000
RDATE:20241027T020000
TZOFFSETFROM:+0100
TZOFFSETTO:+0200
TZNAME:Europe/Berlin CEST
END:DAYLIGHT
BEGIN:DAYLIGHT
DTSTART:20250330T030000
RDATE:20251026T020000
TZOFFSETFROM:+0100
TZOFFSETTO:+0200
TZNAME:Europe/Berlin CEST
END:DAYLIGHT
BEGIN:DAYLIGHT
DTSTART:20260329T030000
RDATE:20261025T020000
TZOFFSETFROM:+0100
TZOFFSETTO:+0200
TZNAME:Europe/Berlin CEST
END:DAYLIGHT
END:VTIMEZONE
BEGIN:VEVENT
UID:87e25dfb4a121481048926f71f2121fd
CATEGORIES:Passionskonzert
CREATED:20231227T183357
SUMMARY:BACH | JOHANNES-PASSION || Kurt-Thomas-Kammerchor || Benediktinerinnenabtei Kloster Engelthal
LOCATION:: Kloster Engelthal / Altenstadt
URL;VALUE=URI:https://www.andreas-koehs.de/de/konzertprogramm/konzertkalender/Eventdetail
 /230/-/bach-johannes-passion-kurt-thomas-kammerchor-benediktinerinnenabtei-
 kloster-engelthal?tmpl=component
DESCRIPTION:Samstag, 23.03.2024, 18:00 Uhr\nBenediktinerinnenabtei Kloster Engelthal (h
 ttps://www.abtei-kloster-engelthal.de/)\nJohann Sebastian Bach (1685-1750)\
 nJohannes-Passion | BWV 245(300 Jahre Uraufführung der Johannes-Passion)\nA
 nnemarie Pfahler | Sopran\nJulia Diefenbach | Alt\nGeorg Poplutz | Tenor\nJ
 ohannes Hill | Bass (Jesus)\nKonstantin Paganetti | Bass (Arien)\nKURT-THOM
 AS-KAMMERCHOR\nwww.kurt-thomas-kammerchor.de (http://www.kurt-thomas-kammer
 chor.de)\nTelemann-Ensemble Frankfurt\nAndreas Köhs | Leitung\n Tickets: 25
  EUR | Abendkasse\nKartenvorverkauf im Klosterforum: samstags 13:30 - 16:00
  Uhr\nKartenvorbestellungen unter: konzertkarten(at)abtei-kloster-engelthal
 .de\n Dieser Event wurde importiert von: https://www.andreas-koehs.de/de/ko
 nzertprogramm/konzertkalender/Eventdetail/230/-/bach-johannes-passion-kurt-
 thomas-kammerchor-benediktinerinnenabtei-kloster-engelthal?tmpl=component (
 https://www.andreas-koehs.de/de/konzertprogramm/konzertkalender/Eventdetail
 /230/-/bach-johannes-passion-kurt-thomas-kammerchor-benediktinerinnenabtei-
 kloster-engelthal?tmpl=component)
X-ALT-DESC;FMTTYPE=text/html:<p style="text-align: left;"><strong>Samstag, 23.03.2024, 18:00 Uhr<a href=
 "https://www.abtei-kloster-engelthal.de/" target="_blank" rel="alternate no
 opener noreferrer" title="Benediktinerinnenabtei Kloster Engelthal (Kloster
 straße 2, 63674 Altenstadt / Hessen)"><br />Benediktinerinnenabtei Kloster 
 Engelthal</a></strong></p><h4 style="text-align: left;"><strong>Johann Seba
 stian Bach </strong>(1685-1750)<br /><strong>Johannes-Passion | BWV 245</st
 rong></h4><p style="text-align: left;">(300 Jahre Uraufführung der Johannes
 -Passion)</p><p style="text-align: left;">Annemarie Pfahler | Sopran<br />J
 ulia Diefenbach | Alt<br />Georg Poplutz&nbsp;| Tenor<br />Johannes Hill | 
 Bass (Jesus)<br />Konstantin Paganetti | Bass (Arien)</p><p style="text-ali
 gn: left;">KURT-THOMAS-KAMMERCHOR<br /><a href="http://www.kurt-thomas-kamm
 erchor.de" target="_blank" rel="alternate noopener noreferrer" title="www.k
 urt-thomas-kammerchor.de">www.kurt-thomas-kammerchor.de</a><br />Telemann-E
 nsemble Frankfurt<br />Andreas Köhs | Leitung</p><p style="text-align: left
 ;"><i class="fas fa-ticket"></i> Tickets: 25 EUR | Abendkasse<br />Kartenvo
 rverkauf im Klosterforum: samstags 13:30 - 16:00 Uhr<br />Kartenvorbestellu
 ngen unter: konzertkarten(at)abtei-kloster-engelthal.de</p><hr /> <a href="
 https://www.andreas-koehs.de/de/konzertprogramm/konzertkalender/Eventdetail
 /230/-/bach-johannes-passion-kurt-thomas-kammerchor-benediktinerinnenabtei-
 kloster-engelthal?tmpl=component">Dieser Event wurde importiert von: https:
 //www.andreas-koehs.de/de/konzertprogramm/konzertkalender/Eventdetail/230/-
 /bach-johannes-passion-kurt-thomas-kammerchor-benediktinerinnenabtei-kloste
 r-engelthal?tmpl=component</a>DTSTAMP:20260423T014549
DTSTART;TZID=Europe/Berlin:20240323T180000
DTEND;TZID=Europe/Berlin:20240323T200000
SEQUENCE:0
TRANSP:OPAQUE
END:VEVENT
END:VCALENDAR