BEGIN:VCALENDAR
VERSION:2.0
PRODID:-//jEvents 2.0 for Joomla//EN
CALSCALE:GREGORIAN
METHOD:PUBLISH
BEGIN:VTIMEZONE
TZID:Europe/Berlin
BEGIN:STANDARD
DTSTART:20241027T020000
RDATE:20250330T030000
TZOFFSETFROM:+0200
TZOFFSETTO:+0100
TZNAME:Europe/Berlin CET
END:STANDARD
BEGIN:STANDARD
DTSTART:20251026T020000
RDATE:20260329T030000
TZOFFSETFROM:+0200
TZOFFSETTO:+0100
TZNAME:Europe/Berlin CET
END:STANDARD
BEGIN:STANDARD
DTSTART:20261025T020000
RDATE:20270328T030000
TZOFFSETFROM:+0200
TZOFFSETTO:+0100
TZNAME:Europe/Berlin CET
END:STANDARD
BEGIN:DAYLIGHT
DTSTART:20241003T190000
RDATE:20241027T020000
TZOFFSETFROM:+0100
TZOFFSETTO:+0200
TZNAME:Europe/Berlin CEST
END:DAYLIGHT
BEGIN:DAYLIGHT
DTSTART:20250330T030000
RDATE:20251026T020000
TZOFFSETFROM:+0100
TZOFFSETTO:+0200
TZNAME:Europe/Berlin CEST
END:DAYLIGHT
BEGIN:DAYLIGHT
DTSTART:20260329T030000
RDATE:20261025T020000
TZOFFSETFROM:+0100
TZOFFSETTO:+0200
TZNAME:Europe/Berlin CEST
END:DAYLIGHT
END:VTIMEZONE
BEGIN:VEVENT
UID:729be40b4190ca5d97c8dadd9b572ce8
CATEGORIES:Chorkonzert
CREATED:20250623T220424
SUMMARY:CHORKONZERT || Kurt-Thomas-Kammerchor || SANKT IGNAZ MAINZ
LOCATION:: St. Ignaz Mainz
URL;VALUE=URI:https://www.andreas-koehs.de/de/konzertprogramm/konzertkalender/Eventdetail
 /331/-/chorkonzert-kurt-thomas-kammerchor-sankt-ignaz-mainz?tmpl=component
DESCRIPTION:<p><strong>Samstag, 04.10.2025, 19:00 Uhr</strong><br /><a href="https://bi
 stummainz.de/pfarrei/mainz-st-ignaz/index.html" target="_blank" rel="noopen
 er" title="Katholische Pfarrei Sankt Ignaz Mainz, Kapuzinerstraße 36, 55116
  Mainz"><strong>Sankt Ignaz Mainz</strong></a></p><h4 style="text-align: le
 ft;"><strong>CHORKONZERT <br /></strong></h4><p>Werke von<br />Heinrich Sch
 ütz (1585-1672),<br />Johann Bach (1604-1673),<br />Isabella Leonarda (1620
 -1704),<br />Johann Sebastian Bach (1685-1750),<br />Felix Mendelssohn Bart
 holdy (1809-1847),<br />Jean Sibelius (1865-1957) und<br />Einojuhani Rauta
 vaara (1928-2016)</p><p><strong>KURT-THOMAS-KAMMERCHOR</strong><br /><a hre
 f="https://www.kurt-thomas-kammerchor.de/" target="_blank" rel="noopener no
 referrer" title="www.kurt-thomas-kammerchor.de">www.kurt-thomas-kammerchor.
 de</a> <br /><strong>Andreas Köhs</strong> | Leitung<br /><strong>Petra Köh
 s</strong> | Violoncello</p><hr /><p><strong><i class="fas fa-ticket"></i> 
 Eintritt</strong>: frei | freie Platzwahl</p><p>&nbsp;</p><hr /> <a href="h
 ttps://www.andreas-koehs.de/de/konzertprogramm/konzertkalender/Eventdetail/
 331/-/chorkonzert-kurt-thomas-kammerchor-sankt-ignaz-mainz?tmpl=component">
 Dieser Event wurde importiert von: https://www.andreas-koehs.de/de/konzertp
 rogramm/konzertkalender/Eventdetail/331/-/chorkonzert-kurt-thomas-kammercho
 r-sankt-ignaz-mainz?tmpl=component</a>DTSTAMP:20260419T150514
DTSTART;TZID=Europe/Berlin:20251004T190000
DTEND;TZID=Europe/Berlin:20251004T200000
SEQUENCE:0
TRANSP:OPAQUE
END:VEVENT
END:VCALENDAR