BEGIN:VCALENDAR
VERSION:2.0
PRODID:-//jEvents 2.0 for Joomla//EN
CALSCALE:GREGORIAN
METHOD:PUBLISH
BEGIN:VTIMEZONE
TZID:Europe/Berlin
BEGIN:STANDARD
DTSTART:20251026T020000
RDATE:20260329T030000
TZOFFSETFROM:+0200
TZOFFSETTO:+0100
TZNAME:Europe/Berlin CET
END:STANDARD
BEGIN:STANDARD
DTSTART:20261025T020000
RDATE:20270328T030000
TZOFFSETFROM:+0200
TZOFFSETTO:+0100
TZNAME:Europe/Berlin CET
END:STANDARD
BEGIN:DAYLIGHT
DTSTART:20250912T110000
RDATE:20251026T020000
TZOFFSETFROM:+0100
TZOFFSETTO:+0200
TZNAME:Europe/Berlin CEST
END:DAYLIGHT
BEGIN:DAYLIGHT
DTSTART:20260329T030000
RDATE:20261025T020000
TZOFFSETFROM:+0100
TZOFFSETTO:+0200
TZNAME:Europe/Berlin CEST
END:DAYLIGHT
END:VTIMEZONE
BEGIN:VEVENT
UID:47c7039e8d2f55b5271efe70cfecdf90
CATEGORIES:Kantatengottesdienst
CREATED:20251106T143720
SUMMARY:KANTATENGOTTESDIENST | J. Ph. Krieger || ERLÖSERKIRCHE Frankfurt-Oberrad
LOCATION:: Erlöserkirche Oberrad (Melanchthonplatz\, 60599 Frankfurt-Oberrad)
URL;VALUE=URI:https://www.andreas-koehs.de/de/konzertprogramm/konzertkalender/Eventdetail
 /352/-/kantatengottesdienst-j-ph-krieger-erloeserkirche-frankfurt-oberrad?t
 mpl=component
DESCRIPTION:<p style="text-align: left;"><strong>Sonntag, 13.09.2026, 11:00 Uhr</strong
 ><br /><strong><a href="https://erloesergemeinde-oberrad.ekhn.de/startseite
 .html" target="_blank" rel="noopener noreferrer" title="Ev.-Luth. Erlöserki
 rche Frankfurt am Main-Oberrad (Melanchthonplatz, 60599 Frankfurt-Oberrad)"
 >Ev.-Luth. Erlöserkirche Frankfurt am Main-Oberrad</a><br /></strong>(Melan
 chthonplatz, 60599 Frankfurt)</p><h4 style="text-align: left;"><strong>Kant
 atengottesdienst</strong></h4><p style="text-align: left;"><strong>Johann P
 hilipp Krieger&nbsp;</strong>(1649-1725)<br /><strong>"Benedicam Dominum" <
 /strong>| Psalm 34</p><hr /> <a href="https://www.andreas-koehs.de/de/konze
 rtprogramm/konzertkalender/Eventdetail/352/-/kantatengottesdienst-j-ph-krie
 ger-erloeserkirche-frankfurt-oberrad?tmpl=component">Dieser Event wurde imp
 ortiert von: https://www.andreas-koehs.de/de/konzertprogramm/konzertkalende
 r/Eventdetail/352/-/kantatengottesdienst-j-ph-krieger-erloeserkirche-frankf
 urt-oberrad?tmpl=component</a>DTSTAMP:20260421T071731
DTSTART;TZID=Europe/Berlin:20260913T110000
DTEND;TZID=Europe/Berlin:20260913T120000
SEQUENCE:0
TRANSP:OPAQUE
END:VEVENT
END:VCALENDAR