BEGIN:VCALENDAR
VERSION:2.0
PRODID:-//jEvents 2.0 for Joomla//EN
CALSCALE:GREGORIAN
METHOD:PUBLISH
BEGIN:VTIMEZONE
TZID:Europe/Berlin
BEGIN:STANDARD
DTSTART:20251026T020000
RDATE:20260329T030000
TZOFFSETFROM:+0200
TZOFFSETTO:+0100
TZNAME:Europe/Berlin CET
END:STANDARD
BEGIN:STANDARD
DTSTART:20261025T020000
RDATE:20270328T030000
TZOFFSETFROM:+0200
TZOFFSETTO:+0100
TZNAME:Europe/Berlin CET
END:STANDARD
BEGIN:DAYLIGHT
DTSTART:20250925T190000
RDATE:20251026T020000
TZOFFSETFROM:+0100
TZOFFSETTO:+0200
TZNAME:Europe/Berlin CEST
END:DAYLIGHT
BEGIN:DAYLIGHT
DTSTART:20260329T030000
RDATE:20261025T020000
TZOFFSETFROM:+0100
TZOFFSETTO:+0200
TZNAME:Europe/Berlin CEST
END:DAYLIGHT
END:VTIMEZONE
BEGIN:VEVENT
UID:483db0ca93c324cb3cc3f86b289521a5
CATEGORIES:Chorkonzert
CREATED:20251125T130853
SUMMARY:CHORKONZERT "LAUDATE" || Kurt-Thomas-Kammerchor || Ev. KIRCHE FREIDRICHSDORF-SEULBERG
LOCATION:: Ev. Kirche Friedrichsdorf-Seulberg (Altseulberg 27\, 61381 Friedrichsdorf
 )
URL;VALUE=URI:https://www.andreas-koehs.de/de/konzertprogramm/konzertkalender/Eventdetail
 /371/-/chorkonzert-laudate-kurt-thomas-kammerchor-ev-kirche-freidrichsdorf-
 seulberg?tmpl=component
DESCRIPTION:<p><strong>Samstag, 26.09.2026, 19:00 Uhr</strong><br /><strong><a href="ht
 tps://seulberg.evangelisch-hochtaunus.de/home/de.html" target="_blank" rel=
 "noopener noreferrer" title="Ev.-Luth. Kirche Friedrichsdorf-Seulberg (Alt 
 Seulberg 27, 61381 Friedrichsdorf)">Ev.-Luth. Kirche Friedrichsdorf-Seulber
 g&nbsp;</a>&nbsp;<br /></strong>(Alt Seulberg 27, 61381 Friedrichsdorf)</p>
 <h4 style="text-align: left;"><strong>CHORKONZERT <br />"Laudate"</strong><
 /h4><h5 style="text-align: left;"><strong>Einojuhani Rautavaara</strong> (1
 928-2016) <br /><strong>MISSA a cappella&nbsp;</strong></h5><p><strong>Mote
 tten von</strong> <br /><strong>Heinrich Schütz</strong> (1585-1672),<br />
 <strong>Johann Sebastian Bach</strong> (1685-1750),<br /><strong>Arnold Sch
 önberg </strong>(1874-1951) u.a.</p><p><strong>Kurt-Thomas-Kammerchor</stro
 ng><br /><a href="https://www.kurt-thomas-kammerchor.de/" target="_blank" r
 el="noopener noreferrer" title="www.kurt-thomas-kammerchor.de">www.kurt-tho
 mas-kammerchor.de</a> <br /><strong>Andreas Köhs</strong> | Leitung<br /><a
  href="https://www.andreas-koehs.de" target="_blank" rel="noopener" title="
 www.andreas-koehs.de">www.andreas-koehs.de</a></p><p style="text-align: lef
 t;"><i class="fas fa-ticket"></i> Tickets: 20 EUR, ermäßigt 15 EUR <br />(A
 bendkasse | freie Platzwahl)</p><p>&nbsp;</p><hr /> <a href="https://www.an
 dreas-koehs.de/de/konzertprogramm/konzertkalender/Eventdetail/371/-/chorkon
 zert-laudate-kurt-thomas-kammerchor-ev-kirche-freidrichsdorf-seulberg?tmpl=
 component">Dieser Event wurde importiert von: https://www.andreas-koehs.de/
 de/konzertprogramm/konzertkalender/Eventdetail/371/-/chorkonzert-laudate-ku
 rt-thomas-kammerchor-ev-kirche-freidrichsdorf-seulberg?tmpl=component</a>DTSTAMP:20260421T073627
DTSTART;TZID=Europe/Berlin:20260926T190000
DTEND;TZID=Europe/Berlin:20260926T203000
SEQUENCE:0
TRANSP:OPAQUE
END:VEVENT
END:VCALENDAR