BEGIN:VCALENDAR
VERSION:2.0
PRODID:-//jEvents 2.0 for Joomla//EN
CALSCALE:GREGORIAN
METHOD:PUBLISH
BEGIN:VTIMEZONE
TZID:Europe/Berlin
BEGIN:STANDARD
DTSTART:20201025T020000
RDATE:20210328T030000
TZOFFSETFROM:+0200
TZOFFSETTO:+0100
TZNAME:Europe/Berlin CET
END:STANDARD
BEGIN:STANDARD
DTSTART:20211031T020000
RDATE:20220327T030000
TZOFFSETFROM:+0200
TZOFFSETTO:+0100
TZNAME:Europe/Berlin CET
END:STANDARD
BEGIN:STANDARD
DTSTART:20221030T020000
RDATE:20230326T030000
TZOFFSETFROM:+0200
TZOFFSETTO:+0100
TZNAME:Europe/Berlin CET
END:STANDARD
BEGIN:STANDARD
DTSTART:20231029T020000
RDATE:20240331T030000
TZOFFSETFROM:+0200
TZOFFSETTO:+0100
TZNAME:Europe/Berlin CET
END:STANDARD
BEGIN:STANDARD
DTSTART:20241027T020000
RDATE:20250330T030000
TZOFFSETFROM:+0200
TZOFFSETTO:+0100
TZNAME:Europe/Berlin CET
END:STANDARD
BEGIN:STANDARD
DTSTART:20251026T020000
RDATE:20260329T030000
TZOFFSETFROM:+0200
TZOFFSETTO:+0100
TZNAME:Europe/Berlin CET
END:STANDARD
BEGIN:STANDARD
DTSTART:20261025T020000
RDATE:20270328T030000
TZOFFSETFROM:+0200
TZOFFSETTO:+0100
TZNAME:Europe/Berlin CET
END:STANDARD
BEGIN:DAYLIGHT
DTSTART:20200401T150000
RDATE:20201025T020000
TZOFFSETFROM:+0100
TZOFFSETTO:+0200
TZNAME:Europe/Berlin CEST
END:DAYLIGHT
BEGIN:DAYLIGHT
DTSTART:20210328T030000
RDATE:20211031T020000
TZOFFSETFROM:+0100
TZOFFSETTO:+0200
TZNAME:Europe/Berlin CEST
END:DAYLIGHT
BEGIN:DAYLIGHT
DTSTART:20220327T030000
RDATE:20221030T020000
TZOFFSETFROM:+0100
TZOFFSETTO:+0200
TZNAME:Europe/Berlin CEST
END:DAYLIGHT
BEGIN:DAYLIGHT
DTSTART:20230326T030000
RDATE:20231029T020000
TZOFFSETFROM:+0100
TZOFFSETTO:+0200
TZNAME:Europe/Berlin CEST
END:DAYLIGHT
BEGIN:DAYLIGHT
DTSTART:20240331T030000
RDATE:20241027T020000
TZOFFSETFROM:+0100
TZOFFSETTO:+0200
TZNAME:Europe/Berlin CEST
END:DAYLIGHT
BEGIN:DAYLIGHT
DTSTART:20250330T030000
RDATE:20251026T020000
TZOFFSETFROM:+0100
TZOFFSETTO:+0200
TZNAME:Europe/Berlin CEST
END:DAYLIGHT
BEGIN:DAYLIGHT
DTSTART:20260329T030000
RDATE:20261025T020000
TZOFFSETFROM:+0100
TZOFFSETTO:+0200
TZNAME:Europe/Berlin CEST
END:DAYLIGHT
END:VTIMEZONE
BEGIN:VEVENT
UID:7698c454a329e65bbac17eb0bebbd613
CATEGORIES:Musikalische Vesper
CREATED:20210115T233103
SUMMARY:KARFREITAG | Andacht zur Todesstunde Jesu | Werke für Violoncello und Orgel
LOCATION:: Dreikönigskirche Frankfurt am Main
URL;VALUE=URI:https://www.andreas-koehs.de/de/konzertprogramm/konzertkalender/Eventdetail
 /95/-/karfreitag-andacht-zur-todesstunde-jesu-werke-fuer-violoncello-und-or
 gel?tmpl=component
DESCRIPTION:Karfreitag, 02.04.2021, 15:00 Uhr,\nDreikönigskirche Frankfurt am Main (htt
 ps://www.kirchenmusik-dreikoenig.de)\nAndacht zur Todesstunde Jesu\n\n"Herr
  Jesu Christ, du höchstes Gut" \nWerke von A. Kühnel. P. Glass und J. S. Ba
 ch\nPetra Köhs | Violoncello\nAndreas Köhs | Orgel\n Dieser Event wurde imp
 ortiert von: https://www.andreas-koehs.de/de/konzertprogramm/konzertkalende
 r/Eventdetail/95/-/karfreitag-andacht-zur-todesstunde-jesu-werke-fuer-violo
 ncello-und-orgel?tmpl=component (https://www.andreas-koehs.de/de/konzertpro
 gramm/konzertkalender/Eventdetail/95/-/karfreitag-andacht-zur-todesstunde-j
 esu-werke-fuer-violoncello-und-orgel?tmpl=component)
X-ALT-DESC;FMTTYPE=text/html:<p style="text-align: left;"><strong>Karfreitag, 02.04.2021, 15:00 Uhr,<br 
 /><a title="Dreikönigskirche Frankfurt am Main (Sachsenhäuser Mainufer, Näh
 e Eiserner Steg)" href="https://www.kirchenmusik-dreikoenig.de" target="_bl
 ank" rel="alternate noopener noreferrer">Dreikönigskirche Frankfurt am Main
 </a></strong></p><p style="text-align: left;"><strong>Andacht zur Todesstun
 de Jesu<br /></strong><br /><strong>"Herr Jesu Christ, du höchstes Gut" </s
 trong><br />Werke von A. Kühnel. P. Glass und J. S. Bach<br />Petra Köhs | 
 Violoncello<br />Andreas Köhs | Orgel</p> <a href="https://www.andreas-koeh
 s.de/de/konzertprogramm/konzertkalender/Eventdetail/95/-/karfreitag-andacht
 -zur-todesstunde-jesu-werke-fuer-violoncello-und-orgel?tmpl=component">Dies
 er Event wurde importiert von: https://www.andreas-koehs.de/de/konzertprogr
 amm/konzertkalender/Eventdetail/95/-/karfreitag-andacht-zur-todesstunde-jes
 u-werke-fuer-violoncello-und-orgel?tmpl=component</a>DTSTAMP:20260421T070028
DTSTART;TZID=Europe/Berlin:20210402T150000
DTEND;TZID=Europe/Berlin:20210402T160000
SEQUENCE:0
TRANSP:OPAQUE
END:VEVENT
END:VCALENDAR